BEGIN:VCALENDAR
VERSION:2.0
PRODID:-//ChamberMaster//Event Calendar 2.0//EN
METHOD:PUBLISH
X-PUBLISHED-TTL:P3D
REFRESH-INTERVAL:P3D
CALSCALE:GREGORIAN
BEGIN:VEVENT
DTSTART:20220430T170000Z
DTEND:20220501T010000Z
X-MICROSOFT-CDO-ALLDAYEVENT:FALSE
SUMMARY:íFestival de Mariachi! En la Isla
DESCRIPTION:To showcase and celebrate mariachi in the Coastal Bend\, Texas A&M University-Corpus Christi will host its second mariachi festival\, Festival de Mariachi en la Isla\, from noon to 8 p.m. on Saturday\, April 30\, in the Performing Arts Center. The festival will include performances by area and regional high school ensembles as well as the University's Mariachi de la Isla. In addition to the ensembles\, festivalgoers can browse items for sale by vendors\, enjoy activities like face-painting and arts and crafts\, watch or participate in a Grito contest\, and purchase food from food trucks.
X-ALT-DESC;FMTTYPE=text/html:<span style="color:rgb(40\, 60\, 70)\; font-family:-apple-system\,system-ui\,system-ui\,segoe ui\,helvetica\,arial\,sans-serif\,apple color emoji\,segoe ui emoji\,segoe ui symbol\; font-size:19.8px">To showcase and celebrate mariachi in the Coastal Bend\, Texas A&amp\;M University-Corpus Christi will host its second mariachi festival\, Festival de Mariachi en la Isla\, from noon to 8 p.m. on Saturday\, April 30\, in the Performing Arts Center. The festival will include performances by area and regional high school ensembles as well as the University&rsquo\;s Mariachi de la Isla. In addition to the ensembles\, festivalgoers can browse items for sale by vendors\, enjoy activities like face-painting and arts and crafts\, watch or participate in a Grito contest\, and purchase food from food trucks.</span>
LOCATION:
UID:e.1866.27446
SEQUENCE:3
DTSTAMP:20260423T102133Z
URL:https://chamber.unitedcorpuschristi.org/events/details/&#237;festival-de-mariachi-en-la-isla-04-30-2022-27446
END:VEVENT

END:VCALENDAR
