BEGIN:VCALENDAR
VERSION:2.0
PRODID:-//ChamberMaster//Event Calendar 2.0//EN
METHOD:PUBLISH
X-PUBLISHED-TTL:P3D
REFRESH-INTERVAL:P3D
CALSCALE:GREGORIAN
BEGIN:VEVENT
DTSTART:20230110T150000Z
DTEND:20230110T160000Z
X-MICROSOFT-CDO-ALLDAYEVENT:FALSE
SUMMARY:Workforce & Education Committee
DESCRIPTION:Developed as an initiative to encourage students to continue their education locally and promote the growth of a highly skilled and qualified workforce in the Coastal Bend.\n\n\n\nWorkforce & Education Committee focuses on collaboration\, aggregating\, and leveraging resources in partnership with business and training partners in the community to ensure that our members have access to a workforce equipped with the necessary skills and certifications.\n\n\n\nPrograms include:\n\n	Mano A Mano Workforce Fund\n	STEM Events\n	Employer Recruitment Events\n	Education Summit
X-ALT-DESC;FMTTYPE=text/html:Developed as an initiative to encourage students to continue their education locally and promote the growth of a highly skilled and qualified workforce in the Coastal Bend.<br />\n<br />\nWorkforce &amp\; Education Committee focuses on collaboration\, aggregating\, and leveraging resources in partnership with business and training partners in the community to ensure that our members have access to a workforce equipped with the necessary skills and certifications.<br />\n<br />\nPrograms include:\n<ul>\n	<li>Mano A Mano Workforce Fund</li>\n	<li>STEM Events</li>\n	<li>Employer Recruitment Events</li>\n	<li>Education Summit</li>\n</ul>\n
LOCATION:Chamber Office 602 N. Staples St.\, Suite 150
UID:e.1866.28200
SEQUENCE:3
DTSTAMP:20260423T231107Z
URL:https://chamber.unitedcorpuschristi.org/events/details/workforce-education-committee-28200
END:VEVENT

END:VCALENDAR
