BEGIN:VCALENDAR
VERSION:2.0
PRODID:-//ChamberMaster//Event Calendar 2.0//EN
METHOD:PUBLISH
X-PUBLISHED-TTL:P3D
REFRESH-INTERVAL:P3D
CALSCALE:GREGORIAN
BEGIN:VEVENT
DTSTART;VALUE=DATE:20220301
DTEND;VALUE=DATE:20220401
TRANSP:TRANSPARENT
X-MICROSOFT-CDO-ALLDAYEVENT:TRUE
SUMMARY:Women's History Month
DESCRIPTION:Texas A&M University-Corpus Christi will celebrate Women's History Month this March. The celebration includes a mix of in-person and virtual events\, including a kick-off luncheon on Tuesday\, March 1\, at 11:30 a.m. in the University Center\, Lone Star Ballroom. Also included are faculty-led discussions\, a distinguished lecture\, musical performances\, book chats\, panel discussions\, trivia contests\, and more. Women's History Month at TAMU-CC is presented by the Women's\, Gender\, and Sexuality Studies Program. Most events are free and open to the public\, though some require registration on I-Engage. For more information\, visit whm.tamucc.edu.
X-ALT-DESC;FMTTYPE=text/html:<span style="color:rgb(40\, 60\, 70)\; font-family:-apple-system\,system-ui\,system-ui\,segoe ui\,helvetica\,arial\,sans-serif\,apple color emoji\,segoe ui emoji\,segoe ui symbol\; font-size:19.8px">Texas A&amp\;M University-Corpus Christi will celebrate Women&rsquo\;s History Month this March. The celebration includes a mix of in-person and virtual events\, including a kick-off luncheon on Tuesday\, March 1\, at 11:30 a.m. in the University Center\, Lone Star Ballroom. Also included are faculty-led discussions\, a distinguished lecture\, musical performances\, book chats\, panel discussions\, trivia contests\, and more. Women&rsquo\;s History Month at TAMU-CC is presented by the Women&rsquo\;s\, Gender\, and Sexuality Studies Program. Most events are free and open to the public\, though some require registration on I-Engage. For more information\, visit&nbsp\;</span><a href="https://www.tamucc.edu/ica/months/whm/" rel="noreferrer" style="box-sizing: border-box\; background-image: initial\; background-position: initial\; background-size: initial\; background-repeat: initial\; background-attachment: initial\; background-origin: initial\; background-clip: initial\; color: rgb(27\, 106\, 201)\; font-family: -apple-system\, system-ui\, system-ui\, &quot\;Segoe UI&quot\;\, Helvetica\, Arial\, sans-serif\, &quot\;Apple Color Emoji&quot\;\, &quot\;Segoe UI Emoji&quot\;\, &quot\;Segoe UI Symbol&quot\;\; font-size: 19.8px\;" target="_blank">whm.tamucc.edu</a><span style="color:rgb(40\, 60\, 70)\; font-family:-apple-system\,system-ui\,system-ui\,segoe ui\,helvetica\,arial\,sans-serif\,apple color emoji\,segoe ui emoji\,segoe ui symbol\; font-size:19.8px">.&nbsp\;</span>
LOCATION:Texas A&M University-Corpus Christi
UID:e.1866.27412
SEQUENCE:3
DTSTAMP:20260423T084558Z
URL:https://chamber.unitedcorpuschristi.org/events/details/women-s-history-month-27412
END:VEVENT

END:VCALENDAR
