BEGIN:VCALENDAR
VERSION:2.0
PRODID:-//ChamberMaster//Event Calendar 2.0//EN
METHOD:PUBLISH
X-PUBLISHED-TTL:P3D
REFRESH-INTERVAL:P3D
CALSCALE:GREGORIAN
BEGIN:VEVENT
DTSTART:20230305T180000Z
DTEND:20230305T230000Z
X-MICROSOFT-CDO-ALLDAYEVENT:FALSE
SUMMARY:Wedding\, Quince and Prom Expo
DESCRIPTION:Do you market your services or products to engaged couples\, quincea eras or sweet sixteens? They'll be at the event along with friends and family members. You'll be able to meet them face-to-face and promote your company in person!*\n\n\n\nIt's a one-stop shopping spectacular for a weddings\, quincea eras\, sweet sixteen\, or prom events. Coastal Bend's top event professionals will be on hand to offer their services. Everything under one roof!\nEngaged couples can register to win thousands of dollars in door prizes. The first 100 brides (or grooms) to register will receive $500.00 in Wedding Fair Bucks to spend with participating vendors\, and EVERY REGISTERED BRIDE (Or groom)* and quincea era WILL RECEIVE A SPECIAL GIFT valued at $200.00! \n\nWant help paying for your wedding or a quincea era celebration? Check out our Cash-for-Contracts program. When you sign a contract with a vendor while at the show\, you could be one of 4 lucky winners to win 10% of your contract paid for by us! (up to $250).\n\nIf you're getting married\, planning a quincea era or other special event\, or just want inspiration\, you won't want to miss this one of a kind event! \n\n*one per engaged couple\n\n\n*Wedding professionals - caterers and bakers\, quincea era\, sweet sixteen and wedding dresses\, photographers\, videographers\, venues\, decorators\, djs\, photo booths\, and more can show and sample their products and services!\n\n\n\nCall or text 210-828-1314
X-ALT-DESC;FMTTYPE=text/html:<span style="font-size:14px"><strong>Do you market your services or products to engaged couples\, quincea&ntilde\;eras or sweet sixteens? They&#39\;ll be at the event along with friends and family members. You&#39\;ll be able to meet them face-to-face and promote your company in person!*</strong></span><br />\n<br />\n<span style="font-size:14px"><span style="color:#ff00ff">It&#39\;s a one-stop shopping spectacular for a weddings\, quincea&ntilde\;eras\, sweet sixteen\, or prom events. Coastal Bend&#39\;s top event professionals will be on hand to offer their services. Everything under one roof!</span></span>\n<p><strong>Engaged couples can register to win thousands of dollars in door prizes. The first 100 brides (or grooms) to register will receive $500.00 in </strong><a href="https://www.weddingfairevents.com/wedding-fair-bucks"><strong>Wedding Fair Bucks</strong></a><strong> to spend with participating vendors\, and EVERY REGISTERED BRIDE (Or groom)* and quincea&ntilde\;era WILL RECEIVE A SPECIAL GIFT valued at $200.00! </strong></p>\n\n<p><strong>Want help paying for your wedding or a quincea&ntilde\;era celebration? Check out our </strong><a href="https://www.weddingfairevents.com/cash-for-contracts"><strong>Cash-for-Contracts</strong></a><strong> program. When you sign a contract with a vendor while at the show\, you could be one of 4 lucky winners to win 10% of your contract paid for by us! (up to $250).</strong></p>\n\n<p><strong>If you&#39\;re getting married\, planning a quincea&ntilde\;era or other special event\, or just want inspiration\, you won&#39\;t want to miss this one of a kind event! </strong></p>\n\n<p><strong>*one per engaged couple</strong></p>\n<br />\n*Wedding professionals - caterers and bakers\, quincea&ntilde\;era\, sweet sixteen and wedding dresses\, photographers\, videographers\, venues\, decorators\, djs\, photo booths\, and more can show and sample their products and services!<br />\n<br />\nCall or text 210-828-1314<br />\n&nbsp\;
LOCATION:Richard M. Borchard Regional Fairgrounds
UID:e.1866.28663
SEQUENCE:3
DTSTAMP:20260424T024406Z
URL:https://chamber.unitedcorpuschristi.org/events/details/wedding-quince-and-prom-expo-28663
END:VEVENT

END:VCALENDAR
