BEGIN:VCALENDAR
VERSION:2.0
PRODID:-//ChamberMaster//Event Calendar 2.0//EN
METHOD:PUBLISH
X-PUBLISHED-TTL:P3D
REFRESH-INTERVAL:P3D
CALSCALE:GREGORIAN
BEGIN:VEVENT
DTSTART:20230108T180000Z
DTEND:20230108T230000Z
X-MICROSOFT-CDO-ALLDAYEVENT:FALSE
SUMMARY:Wedding Fair Coastal Bend
DESCRIPTION:The original Wedding Fair produced by The Wedding Fair Lady\, Maureen Wysoki\, is returning to the American Bank Center in Corpus Christi January 8th\, 2023. For over 30 years\, Wedding Fair has been known as THE biggest and best wedding expo to attend in the Coastal Bend! Wedding couples can find everything they need under one roof\, and vendors can meet with hundreds of wedding couples face-to-face. We do more for our vendors and wedding couples than any other wedding expo in the Coastal Bend. If you'd like more information about attending or exhibiting\, go to https://www.weddingfairevents.com/contact and we'll email information.\n\n\n\nThis is the ONLY place wedding couples need to go to find everything for their wedding all in one day. If you're getting married\, you'll have fun visiting over 100 booths of the Coastal Bend's top wedding professionals\, sampling food and cake\, taking advantage of money-saving offers\, enjoying live music\, and watching fabulous fashion shows throughout the day!\n\nWedding Fair also offers wedding couples $500 in Wedding Fair Bucks to spend with participating vendors at the show for the first 100 registered couples\, AND a $200 gift card for EVERY registered wedding couple.* While couples are there\, they can enter the Cash for Contracts contest if they sign with vendors at the show. We will have a grand prize drawing\, which includes an 8-day\, 7-night accommodation package\, as well as other valuable door prizes from the many vendors!\n\n\n\nWhether you are a wedding pro\, or getting married\, you'll want to be at this event.\n\n\n\n See website for details.
X-ALT-DESC;FMTTYPE=text/html:<p><span style="font-size:12px"><strong>The original Wedding Fair</strong><span style="color:rgb(25\, 25\, 25)\; font-family:arial\,verdana\,helvetica\,sans-serif"> produced by The </span><strong>Wedding Fair Lady\,</strong><span style="color:rgb(25\, 25\, 25)\; font-family:arial\,verdana\,helvetica\,sans-serif"> Maureen Wysoki\, is returning to the American Bank Center in Corpus Christi January 8th\, 2023. </span><span style="font-family:calibri\,helvetica\,arial\,sans-serif">For over 30 years\, Wedding Fair has been known as THE biggest and best wedding expo to attend in the Coastal Bend! Wedding couples can find everything they need under one roof\, and vendors can meet with hundreds of wedding couples face-to-face. </span>We do more for our vendors and wedding couples than any other wedding expo in the Coastal Bend. If you&#39\;d like more information about attending or exhibiting\, go to </span><a href="https://www.weddingfairevents.com/contact">https://www.weddingfairevents.com/contact</a> <span style="font-size:12px">and we&#39\;ll email information.</span><br />\n<br />\n<span style="font-family:calibri\,helvetica\,arial\,sans-serif\; font-size:13px">This is the ONLY place wedding couples need to go to find everything for their wedding all in one day. If you&#39\;re getting married\, you&#39\;ll have fun visiting over 100 booths of the Coastal Bend&#39\;s top wedding professionals\, sampling food and cake\, taking advantage of money-saving offers\, enjoying live music\, and watching fabulous fashion shows throughout the day!</span></p>\n\n<p><span style="font-family:calibri\,helvetica\,arial\,sans-serif\; font-size:13px">Wedding Fair also offers wedding couples $500 in </span><a href="https://www.weddingfairevents.com/wedding-fair-bucks" style="font-size: 13px\; color: rgb(161\, 40\, 127)\; font-family: Calibri\, Helvetica\, Arial\, sans-serif\; font-weight: bold\; text-decoration: none\;" target="_blank">Wedding Fair Bucks</a><span style="font-family:calibri\,helvetica\,arial\,sans-serif\; font-size:13px"><a href="https://www.weddingfairevents.com/wedding-fair-bucks"> </a>to spend with participating vendors at the show for the first 100 registered couples\, AND a $200 gift card for EVERY registered wedding couple.* While couples are there\, they can enter the </span><a href="https://www.weddingfairevents.com/cash-for-contracts" style="font-size: 13px\; color: rgb(161\, 40\, 127)\; font-family: Calibri\, Helvetica\, Arial\, sans-serif\; font-weight: bold\; text-decoration: none\;" target="_blank">Cash for Contracts contest</a><span style="font-family:calibri\,helvetica\,arial\,sans-serif\; font-size:13px"> if they sign with vendors at the show.&nbsp\;We will have a grand prize drawing\, which includes an 8-day\, 7-night accommodation package\, as well as other valuable door prizes from the many vendors!</span><br />\n<br />\n<span style="font-family:calibri\,helvetica\,arial\,sans-serif\; font-size:13px"><strong>Whether you are a wedding pro\, or getting married\, you&#39\;ll want to be at this event.</strong><br />\n<br />\n&bull\;See website for details.</span></p>\n\n<p>&nbsp\;</p>\n
LOCATION:American Bank Center 1901 N. Shoreline Blvd Corpus Christi\, TX 78401
UID:e.1866.27731
SEQUENCE:3
DTSTAMP:20260423T231350Z
URL:https://chamber.unitedcorpuschristi.org/events/details/wedding-fair-coastal-bend-01-08-2023-27731
END:VEVENT

END:VCALENDAR
