BEGIN:VCALENDAR
VERSION:2.0
PRODID:-//ChamberMaster//Event Calendar 2.0//EN
METHOD:PUBLISH
X-PUBLISHED-TTL:P3D
REFRESH-INTERVAL:P3D
CALSCALE:GREGORIAN
BEGIN:VEVENT
DTSTART;VALUE=DATE:20230111
DTEND;VALUE=DATE:20230112
TRANSP:TRANSPARENT
X-MICROSOFT-CDO-ALLDAYEVENT:TRUE
SUMMARY:#WearBlueDay in Awareness of Anti-Trafficking
DESCRIPTION:Join New Life Refuge and National Partners\, DHS and the Blue Campaign in the fight against trafficking!  Support the healing of child survivors at our Refuge Campus. Donate today.\n\n\n\n#WearBlueDay on January 11th annually to promote awareness and prevention of child trafficking! Wear your blues and share on social media! Use these hashtags! #EndChildTrafficking and #NewLifeRefugeMinistries\n\n\n\nFrom our Partners:\n\n?Join Blue Campaign in raising awareness of human trafficking through social media this #WearBlueDay. The Campaign invites you to download any of the Wear Blue Day graphics to post on Facebook\, Twitter\, or Instagram.\n\nIf you participate in #WearBlueDay by tagging @DHSBlueCampaign and using the hashtag #WearBlueDay\, the image used can be repurposed for training\, education\, awareness\, paid media\, and TV purposes.
X-ALT-DESC;FMTTYPE=text/html:<div><span style="color:rgb(51\, 51\, 51)\; font-family:sans-serif\,arial\,verdana\,trebuchet ms\; font-size:13px">Join New Life Refuge and National Partners\, DHS and the Blue Campaign in the fight against trafficking!&nbsp\;</span>&nbsp\;Support the healing of child survivors at our Refuge Campus. Donate today.</div>\n\n<div><br />\n<span style="color:rgb(51\, 51\, 51)\; font-family:sans-serif\,arial\,verdana\,trebuchet ms\; font-size:13px">#WearBlueDay on January 11th annually to promote awareness and prevention of child trafficking! Wear your blues and share on social media! Use these hashtags! #EndChildTrafficking and #NewLifeRefugeMinistries</span><br />\n<br />\n<span style="color:rgb(51\, 51\, 51)\; font-family:sans-serif\,arial\,verdana\,trebuchet ms\; font-size:13px">From our Partners:</span><br />\n<span style="color:rgb(51\, 51\, 51)\; font-family:sans-serif\,arial\,verdana\,trebuchet ms\; font-size:13px">?</span><span style="color:rgb(51\, 51\, 51)\; font-family:sans-serif\,arial\,verdana\,trebuchet ms\; font-size:13px">Join Blue Campaign in raising awareness of human trafficking through social media this #WearBlueDay. The Campaign invites you to download any of the&nbsp\;</span><a class="gmail-survey-processed" href="https://www.dhs.gov/medialibrary/collections/35641" style="color: rgb(0\, 82\, 136)\; font-size: 13px\; font-family: sans-serif\, Arial\, Verdana\, &quot\;Trebuchet MS&quot\;\; box-sizing: inherit\;">Wear Blue Day graphics</a><span style="color:rgb(51\, 51\, 51)\; font-family:sans-serif\,arial\,verdana\,trebuchet ms\; font-size:13px">&nbsp\;to post on Facebook\, Twitter\, or Instagram.</span>\n\n<p><em>If you participate in #WearBlueDay by tagging @DHSBlueCampaign and using the hashtag #WearBlueDay\, the image used can be repurposed for training\, education\, awareness\, paid media\, and TV purposes.</em><br />\n&nbsp\;</p>\n</div>\n
LOCATION:Facebook Event: https://fb.me/e/2Aym2PA6S
UID:e.1866.28372
SEQUENCE:3
DTSTAMP:20260423T231605Z
URL:https://chamber.unitedcorpuschristi.org/events/details/wearblueday-in-awareness-of-anti-trafficking-28372
END:VEVENT

END:VCALENDAR
