BEGIN:VCALENDAR
VERSION:2.0
PRODID:-//ChamberMaster//Event Calendar 2.0//EN
METHOD:PUBLISH
X-PUBLISHED-TTL:P3D
REFRESH-INTERVAL:P3D
CALSCALE:GREGORIAN
BEGIN:VEVENT
DTSTART:20220815T140000Z
DTEND:20220815T210000Z
X-MICROSOFT-CDO-ALLDAYEVENT:FALSE
SUMMARY:Veterans Resource Fair
DESCRIPTION:Save the Date. Resource One-Stop is hosting its' annual Veterans Resource Fair. The fair is for veterans and families of those veterans. There will be backpack giveaways and over 25 vendors ready to provide valuable resources to every service veteran in attendance.
X-ALT-DESC;FMTTYPE=text/html:Save the Date. Resource One-Stop is hosting its&#39\; annual Veterans Resource Fair. The fair is for veterans and families of those veterans. There will be backpack giveaways and over 25 vendors ready to provide valuable resources to every service veteran in attendance.&nbsp\;&nbsp\;
LOCATION:2000 Billy G. Webb Dr. Portland TX. 78374
UID:e.1866.27476
SEQUENCE:3
DTSTAMP:20260423T162839Z
URL:https://chamber.unitedcorpuschristi.org/events/details/veterans-resource-fair-27476
END:VEVENT

END:VCALENDAR
