BEGIN:VCALENDAR
VERSION:2.0
PRODID:-//ChamberMaster//Event Calendar 2.0//EN
METHOD:PUBLISH
X-PUBLISHED-TTL:P3D
REFRESH-INTERVAL:P3D
CALSCALE:GREGORIAN
BEGIN:VEVENT
DTSTART;VALUE=DATE:20220927
DTEND;VALUE=DATE:20221003
TRANSP:TRANSPARENT
X-MICROSOFT-CDO-ALLDAYEVENT:TRUE
SUMMARY:The Hector P. Garcia New Play Project
DESCRIPTION:Texas A&M University-Corpus Christi's Department of Theatre and Dance is proud to present the world premiere of the "The Hector P. Garcia New Play Project." The play will take place in the Warren Theatre\, Center for the Arts\, on Sept. 27-30 and Oct. 1-2\, with Tuesday-Saturday performances at 7:30 p.m. and Sunday matinee at 2 p.m. Purchase tickets at www.tamucc.tix.com. This new work about civil rights activist\, Hector P. Garcia\, is like a Greek epic. It is a legend of a forgotten hero's needs at a time when heroes are in hiding and need to be called upon. Like legends of the past\, Garcia is not perfect or God-like\, which makes his actions accessible to all of us   not for fame but rather for honor. The project is written by Iraisa Ann Reilley\; directed by Marco Munoz\; and Dr. Thomas Oldham is Dramaturg. Learn more at https://www.tamucc.edu/liberal-arts/departments/theatre/on-stage/index.php.
X-ALT-DESC;FMTTYPE=text/html:<span style="color:rgb(40\, 60\, 70)\; font-family:-apple-system\,system-ui\,system-ui\,segoe ui\,helvetica\,arial\,sans-serif\,apple color emoji\,segoe ui emoji\,segoe ui symbol\; font-size:19.8px">Texas A&amp\;M University-Corpus Christi&rsquo\;s Department of Theatre and Dance is proud to present the world premiere of the &ldquo\;The Hector P. Garcia New Play Project.&rdquo\; The play will take place in the Warren Theatre\, Center for the Arts\, on Sept. 27-30 and Oct. 1-2\, with Tuesday-Saturday performances at 7:30 p.m. and Sunday matinee at 2 p.m. Purchase tickets at&nbsp\;</span><a href="http://www.tamucc.tix.com/" rel="noreferrer" style="box-sizing: border-box\; background-image: initial\; background-position: initial\; background-size: initial\; background-repeat: initial\; background-attachment: initial\; background-origin: initial\; background-clip: initial\; color: var(--color-blue)\; font-family: -apple-system\, system-ui\, system-ui\, &quot\;Segoe UI&quot\;\, Helvetica\, Arial\, sans-serif\, &quot\;Apple Color Emoji&quot\;\, &quot\;Segoe UI Emoji&quot\;\, &quot\;Segoe UI Symbol&quot\;\; font-size: 19.8px\;" target="_blank">www.tamucc.tix.com</a>.<span style="color:rgb(40\, 60\, 70)\; font-family:-apple-system\,system-ui\,system-ui\,segoe ui\,helvetica\,arial\,sans-serif\,apple color emoji\,segoe ui emoji\,segoe ui symbol\; font-size:19.8px">&nbsp\;This new work about civil rights activist\, Hector P. Garcia\, is like a Greek epic. It is a legend of a forgotten hero&rsquo\;s needs at a time when heroes are in hiding and need to be called upon. Like legends of the past\, Garcia is not perfect or God-like\, which makes his actions accessible to all of us &ndash\; not for fame but rather for honor. The project is written by Iraisa Ann Reilley\; directed by Marco Munoz\; and Dr. Thomas Oldham is Dramaturg. Learn more at&nbsp\;</span><a href="https://www.tamucc.edu/liberal-arts/departments/theatre/on-stage/index.php" rel="noreferrer" style="box-sizing: border-box\; background-image: initial\; background-position: initial\; background-size: initial\; background-repeat: initial\; background-attachment: initial\; background-origin: initial\; background-clip: initial\; color: var(--color-blue)\; font-family: -apple-system\, system-ui\, system-ui\, &quot\;Segoe UI&quot\;\, Helvetica\, Arial\, sans-serif\, &quot\;Apple Color Emoji&quot\;\, &quot\;Segoe UI Emoji&quot\;\, &quot\;Segoe UI Symbol&quot\;\; font-size: 19.8px\;" target="_blank">https://www.tamucc.edu/liberal-arts/departments/theatre/on-stage/index.php</a><span style="color:rgb(40\, 60\, 70)\; font-family:-apple-system\,system-ui\,system-ui\,segoe ui\,helvetica\,arial\,sans-serif\,apple color emoji\,segoe ui emoji\,segoe ui symbol\; font-size:19.8px">.</span>
LOCATION:Warren Theatre\, Center for the Arts at Texas A&M University-Corpus Christi
UID:e.1866.27727
SEQUENCE:3
DTSTAMP:20260423T180309Z
URL:https://chamber.unitedcorpuschristi.org/events/details/the-hector-p-garcia-new-play-project-27727
END:VEVENT

END:VCALENDAR
