BEGIN:VCALENDAR
VERSION:2.0
PRODID:-//ChamberMaster//Event Calendar 2.0//EN
METHOD:PUBLISH
X-PUBLISHED-TTL:P3D
REFRESH-INTERVAL:P3D
CALSCALE:GREGORIAN
BEGIN:VEVENT
DTSTART;VALUE=DATE:20230225
DTEND;VALUE=DATE:20230226
TRANSP:TRANSPARENT
X-MICROSOFT-CDO-ALLDAYEVENT:TRUE
SUMMARY:TAMU-CC Homecoming 2023
DESCRIPTION:Texas A&M University-Corpus Christi is celebrating 75 years of academic prestige\, student success\, and Islander tradition during the Island University's Homecoming 2023\, to be held Feb. 19-25. Together with the\n\nCoastal Bend community\, Islander students\, faculty\, staff\, and alumni are invited to show their Islander Spirit and join in the fun through the annual Lighting of the "I"\, basketball games\, and a variety of other opportunities and activities! For more information on Homecoming 2023\, including a full list of events\, visit https://islanderhoco.com/.
X-ALT-DESC;FMTTYPE=text/html:<span style="color:rgb(40\, 60\, 70)\; font-family:-apple-system\,system-ui\,system-ui\,segoe ui\,helvetica\,arial\,sans-serif\,apple color emoji\,segoe ui emoji\,segoe ui symbol\; font-size:19.8px">Texas A&amp\;M University-Corpus&nbsp\;</span><span style="color:rgb(40\, 60\, 70)\; font-family:-apple-system\,system-ui\,system-ui\,segoe ui\,helvetica\,arial\,sans-serif\,apple color emoji\,segoe ui emoji\,segoe ui symbol\; font-size:19.8px">Christi is celebrating 75 years of academic prestige\, student success\, and Islander tradition&nbsp\;</span><span style="color:rgb(40\, 60\, 70)\; font-family:-apple-system\,system-ui\,system-ui\,segoe ui\,helvetica\,arial\,sans-serif\,apple color emoji\,segoe ui emoji\,segoe ui symbol\; font-size:19.8px">during the Island University&rsquo\;s Homecoming 2023\, to be held Feb. 19-25. Together with the</span><br />\n<span style="color:rgb(40\, 60\, 70)\; font-family:-apple-system\,system-ui\,system-ui\,segoe ui\,helvetica\,arial\,sans-serif\,apple color emoji\,segoe ui emoji\,segoe ui symbol\; font-size:19.8px">Coastal Bend community\, Islander students\, faculty\, staff\, and alumni are invited to show their&nbsp\;</span><span style="color:rgb(40\, 60\, 70)\; font-family:-apple-system\,system-ui\,system-ui\,segoe ui\,helvetica\,arial\,sans-serif\,apple color emoji\,segoe ui emoji\,segoe ui symbol\; font-size:19.8px">Islander Spirit and join in the fun through the annual Lighting of the &ldquo\;I&rdquo\;\, basketball games\, and&nbsp\;</span><span style="color:rgb(40\, 60\, 70)\; font-family:-apple-system\,system-ui\,system-ui\,segoe ui\,helvetica\,arial\,sans-serif\,apple color emoji\,segoe ui emoji\,segoe ui symbol\; font-size:19.8px">a variety of other opportunities and activities! For more information on Homecoming 2023\,&nbsp\;</span><span style="color:rgb(40\, 60\, 70)\; font-family:-apple-system\,system-ui\,system-ui\,segoe ui\,helvetica\,arial\,sans-serif\,apple color emoji\,segoe ui emoji\,segoe ui symbol\; font-size:19.8px">including a full list of events\, visit&nbsp\;</span><a class="autolinked" href="https://islanderhoco.com/" rel="noreferrer" style="box-sizing: border-box\; background-image: initial\; background-position: initial\; background-size: initial\; background-repeat: initial\; background-attachment: initial\; background-origin: initial\; background-clip: initial\; color: var(--color-blue)\; font-family: -apple-system\, system-ui\, &quot\;system-ui&quot\;\, &quot\;Segoe UI&quot\;\, Helvetica\, Arial\, sans-serif\, &quot\;Apple Color Emoji&quot\;\, &quot\;Segoe UI Emoji&quot\;\, &quot\;Segoe UI Symbol&quot\;\; font-size: 19.8px\;" target="_blank">https://islanderhoco.com/</a><span style="color:rgb(40\, 60\, 70)\; font-family:-apple-system\,system-ui\,system-ui\,segoe ui\,helvetica\,arial\,sans-serif\,apple color emoji\,segoe ui emoji\,segoe ui symbol\; font-size:19.8px">.&nbsp\;</span>
LOCATION:Texas A&M University-Corpus Christi and the American Bank Center
UID:e.1866.28515
SEQUENCE:3
DTSTAMP:20260424T003521Z
URL:https://chamber.unitedcorpuschristi.org/events/details/tamu-cc-homecoming-2023-28515
END:VEVENT

END:VCALENDAR
