BEGIN:VCALENDAR
VERSION:2.0
PRODID:-//ChamberMaster//Event Calendar 2.0//EN
METHOD:PUBLISH
X-PUBLISHED-TTL:P3D
REFRESH-INTERVAL:P3D
CALSCALE:GREGORIAN
BEGIN:VEVENT
DTSTART:20221025T140000Z
DTEND:20221026T010000Z
X-MICROSOFT-CDO-ALLDAYEVENT:FALSE
SUMMARY:TAMACC Hispanic Leadership Business Summit
DESCRIPTION:A Day Focused on Addressing Issues and Exploring Solutions\n\n\n\n\n\nThis is a Hispanic-centered\, action-driven\, conscious dialogue about some of the issues most impacting Hispanic business in Texas. The focus of this summit is technology\, state procurement\, workforce health\, and access to capital.\n\nThis leadership and business summit is an opportunity for Latino Leaders from across the state of Texas to address issues impacting our businesses and communities.\n\nWe know what the obstacles are. Your participation and input are essential to initiate the changes needed to move our Hispanic community upward to a more equitable position.\n\nWe hope you will join us for an experience you will want to be a part of.\n\n \n\nPlease plan to attend the Texas Association of Mexican American Chambers of Commerce (TAMACC) Hispanic Leadership and Business Summit\, Tuesday\, October 25\, 2022\, at the Texas State Capitol Auditorium.\n\nTo register for this complimentary Summit\, please send an email to panton@TAMACC.org and include your full name\, business/organization name\, title\, telephone number\, and if you belong to a Hispanic chamber. Do not hesitate to telephone us at (512) 444-5727 for further information.\n\n\n\n \n\nTHIS FULL DAY SUMMIT IS COMPLIMENTARY
X-ALT-DESC;FMTTYPE=text/html:<div class="et_pb_module et_pb_text et_pb_text_0  et_pb_text_align_left et_pb_bg_layout_light" style="margin: 0px 0px 29.6875px\; padding-right: 0px\; padding-bottom: 0px\; padding-left: 0px\; border: none\; font-variant-numeric: inherit\; font-variant-east-asian: inherit\; font-stretch: inherit\; font-size: 17.008px\; line-height: inherit\; font-family: &quot\;PT Serif&quot\;\, Georgia\, Times\, &quot\;Times New Roman&quot\;\, serif\; vertical-align: baseline\; outline: 0px\; background-image: initial\; background-position: 50% center\; background-size: cover\; background-repeat: no-repeat\; background-attachment: initial\; background-origin: initial\; background-clip: initial\; color: rgb(0\, 0\, 0)\; box-shadow: none\; text-shadow: inherit\; border-radius: 0px\; transition: none 0s ease 0s\; box-sizing: border-box\; -webkit-font-smoothing: antialiased\; position: relative\; animation-timing-function: linear\; animation-duration: 0.2s\; overflow-wrap: break-word\; padding-top: 40px !important\;">\n<div class="et_pb_text_inner" style="margin: 0px\; padding: 0px\; border: none\; font: inherit\; vertical-align: baseline\; text-align: inherit\; outline: 0px\; background: transparent\; letter-spacing: inherit\; color: inherit\; box-shadow: none\; text-shadow: inherit\; border-radius: 0px\; transition: none 0s ease 0s\; box-sizing: border-box\; -webkit-font-smoothing: antialiased\; position: relative\;">\n<h3 style="margin: 0px\; padding: 0px 0px 10px\; border: none\; font-variant: inherit\; font-stretch: inherit\; font-size: 1.5rem\; line-height: 1em\; font-family: Oswald\, Helvetica\, Arial\, sans-serif\; vertical-align: baseline\; transition: none 0s ease 0s\; color: inherit\; text-align: center\; outline: 0px\; background: transparent\; letter-spacing: inherit\; box-shadow: none\; text-shadow: inherit\; border-radius: 0px\; box-sizing: border-box\; -webkit-font-smoothing: antialiased\;">A Day Focused on Addressing Issues and Exploring Solutions</h3>\n</div>\n</div>\n\n<div class="et_pb_module et_pb_text et_pb_text_1  et_pb_text_align_left et_pb_bg_layout_light" style="margin: 0px\; padding: 0px\; border: none\; font-variant-numeric: inherit\; font-variant-east-asian: inherit\; font-stretch: inherit\; font-size: 17.008px\; line-height: inherit\; font-family: &quot\;PT Serif&quot\;\, Georgia\, Times\, &quot\;Times New Roman&quot\;\, serif\; vertical-align: baseline\; outline: 0px\; background-image: initial\; background-position: 50% center\; background-size: cover\; background-repeat: no-repeat\; background-attachment: initial\; background-origin: initial\; background-clip: initial\; color: rgb(0\, 0\, 0)\; box-shadow: none\; text-shadow: inherit\; border-radius: 0px\; transition: none 0s ease 0s\; box-sizing: border-box\; -webkit-font-smoothing: antialiased\; position: relative\; animation-timing-function: linear\; animation-duration: 0.2s\; overflow-wrap: break-word\;">\n<div class="et_pb_text_inner" style="margin: 0px\; padding: 0px\; border: none\; font: inherit\; vertical-align: baseline\; text-align: inherit\; outline: 0px\; background: transparent\; letter-spacing: inherit\; color: inherit\; box-shadow: none\; text-shadow: inherit\; border-radius: 0px\; transition: none 0s ease 0s\; box-sizing: border-box\; -webkit-font-smoothing: antialiased\; position: relative\;">\n<p style="margin: 0px\; padding: 0px 0px 1em\; border: none\; font: inherit\; vertical-align: baseline\; text-align: inherit\; outline: 0px\; background: transparent\; letter-spacing: inherit\; color: inherit !important\; box-shadow: none\; text-shadow: inherit\; border-radius: 0px\; transition: none 0s ease 0s\; box-sizing: border-box\; -webkit-font-smoothing: antialiased\;">This is a Hispanic-centered\, action-driven\, conscious dialogue about some of the issues most impacting Hispanic business in Texas. The focus of this summit is technology\, state procurement\, workforce health\, and access to capital.</p>\n\n<p style="margin: 0px\; padding: 0px 0px 1em\; border: none\; font: inherit\; vertical-align: baseline\; text-align: inherit\; outline: 0px\; background: transparent\; letter-spacing: inherit\; color: inherit !important\; box-shadow: none\; text-shadow: inherit\; border-radius: 0px\; transition: none 0s ease 0s\; box-sizing: border-box\; -webkit-font-smoothing: antialiased\;">This leadership and business summit is an opportunity for Latino Leaders from across the state of Texas to address issues impacting our businesses and communities.</p>\n\n<p style="margin: 0px\; padding: 0px 0px 1em\; border: none\; font: inherit\; vertical-align: baseline\; text-align: inherit\; outline: 0px\; background: transparent\; letter-spacing: inherit\; color: inherit !important\; box-shadow: none\; text-shadow: inherit\; border-radius: 0px\; transition: none 0s ease 0s\; box-sizing: border-box\; -webkit-font-smoothing: antialiased\;">We know what the obstacles are. Your participation and input are essential to initiate the changes needed to move our Hispanic community upward to a more equitable position.</p>\n\n<p style="margin: 0px\; padding: 0px\; border: none\; font: inherit\; vertical-align: baseline\; text-align: inherit\; outline: 0px\; background: transparent\; letter-spacing: inherit\; color: inherit !important\; box-shadow: none\; text-shadow: inherit\; border-radius: 0px\; transition: none 0s ease 0s\; box-sizing: border-box\; -webkit-font-smoothing: antialiased\;">We hope you will join us for an experience you will want to be a part of.<br />\n&nbsp\;</p>\n\n<p style="margin: 0px\; padding: 0px 0px 1em\; border: none\; font-variant-numeric: inherit\; font-variant-east-asian: inherit\; font-stretch: inherit\; font-size: 17.008px\; line-height: inherit\; font-family: &quot\;PT Serif&quot\;\, Georgia\, Times\, &quot\;Times New Roman&quot\;\, serif\; vertical-align: baseline\; outline: 0px\; background-image: initial\; background-position: initial\; background-size: initial\; background-repeat: initial\; background-attachment: initial\; background-origin: initial\; background-clip: initial\; color: rgb(0\, 0\, 0)\; box-shadow: none\; text-shadow: inherit\; border-radius: 0px\; transition: none 0s ease 0s\; box-sizing: border-box\; -webkit-font-smoothing: antialiased\;">Please plan to attend the Texas Association of Mexican American Chambers of Commerce (TAMACC) Hispanic Leadership and Business Summit\, Tuesday\, October 25\, 2022\, at the Texas State Capitol Auditorium.</p>\n\n<p style="margin: 0px\; padding: 0px\; border: none\; font-variant-numeric: inherit\; font-variant-east-asian: inherit\; font-stretch: inherit\; font-size: 17.008px\; line-height: inherit\; font-family: &quot\;PT Serif&quot\;\, Georgia\, Times\, &quot\;Times New Roman&quot\;\, serif\; vertical-align: baseline\; outline: 0px\; background-image: initial\; background-position: initial\; background-size: initial\; background-repeat: initial\; background-attachment: initial\; background-origin: initial\; background-clip: initial\; color: rgb(0\, 0\, 0)\; box-shadow: none\; text-shadow: inherit\; border-radius: 0px\; transition: none 0s ease 0s\; box-sizing: border-box\; -webkit-font-smoothing: antialiased\;">To register for this complimentary Summit\, please send an email to&nbsp\;<a href="mailto:panton@TAMACC.org" style="margin: 0px\; padding: 0px 0px 10px\; border: none\; font-variant: inherit\; font-stretch: inherit\; font-size: inherit\; line-height: 1em\; font-family: inherit\; vertical-align: baseline\; text-decoration-line: none\; color: rgb(46\, 163\, 242)\; text-align: inherit\; outline: 0px\; background: transparent\; letter-spacing: inherit\; box-shadow: none\; text-shadow: inherit\; border-radius: 0px\; transition: none 0s ease 0s\; box-sizing: border-box\; -webkit-font-smoothing: antialiased\;">panton@TAMACC.org</a>&nbsp\;and include your full name\, business/organization name\, title\, telephone number\, and if you belong to a Hispanic chamber. Do not hesitate to telephone us at (512) 444-5727 for further information.<br />\n<br />\n&nbsp\;</p>\n\n<p style="margin: 0px\; padding: 0px 0px 1em\; border: none\; font-variant-numeric: inherit\; font-variant-east-asian: inherit\; font-stretch: inherit\; font-size: 20px\; line-height: inherit\; font-family: &quot\;PT Serif&quot\;\, Georgia\, Times\, &quot\;Times New Roman&quot\;\, serif\; vertical-align: baseline\; text-align: center\; outline: 0px\; background-image: initial\; background-position: initial\; background-size: initial\; background-repeat: initial\; background-attachment: initial\; background-origin: initial\; background-clip: initial\; color: rgb(0\, 0\, 0)\; box-shadow: none\; text-shadow: inherit\; border-radius: 0px\; transition: none 0s ease 0s\; box-sizing: border-box\; -webkit-font-smoothing: antialiased\;"><span style="margin: 0px\; padding: 0px\; border: none\; font-style: inherit\; font-variant: inherit\; font-weight: 900\; font-stretch: inherit\; font-size: inherit\; line-height: inherit\; font-family: inherit\; vertical-align: baseline\; text-align: inherit\; outline: 0px\; background: transparent\; letter-spacing: inherit\; color: inherit\; box-shadow: none\; text-shadow: inherit\; border-radius: 0px\; transition: none 0s ease 0s\; box-sizing: border-box\; -webkit-font-smoothing: antialiased\;"><span style="margin: 0px\; padding: 0px\; border: none\; font: inherit\; vertical-align: baseline\; text-align: inherit\; outline: 0px\; background: transparent\; letter-spacing: inherit\; color: rgb(228\, 17\, 15)\; box-shadow: none\; text-shadow: inherit\; border-radius: 0px\; transition: none 0s ease 0s\; box-sizing: border-box\; -webkit-font-smoothing: antialiased\;">THIS FULL DAY SUMMIT IS COMPLIMENTARY</span></span></p>\n</div>\n</div>\n
LOCATION:Texas State Capitol Auditorium Capitol Extension\, Room E1.004 1100 Congress Ave\, Austin TX 78701
UID:e.1866.27748
SEQUENCE:3
DTSTAMP:20260423T204406Z
URL:https://chamber.unitedcorpuschristi.org/events/details/tamacc-hispanic-leadership-business-summit-27748
END:VEVENT

END:VCALENDAR
