BEGIN:VCALENDAR
VERSION:2.0
PRODID:-//ChamberMaster//Event Calendar 2.0//EN
METHOD:PUBLISH
X-PUBLISHED-TTL:P3D
REFRESH-INTERVAL:P3D
CALSCALE:GREGORIAN
BEGIN:VEVENT
DTSTART:20220303T220000Z
DTEND:20220304T000000Z
X-MICROSOFT-CDO-ALLDAYEVENT:FALSE
SUMMARY:State of the Chamber presented by Corpus Christi Medical Center
DESCRIPTION:Join the United Corpus Christi Chamber of Commerce for the State of the Chamber Update & Social\, presented Corpus Christi Medical Center.  This event will include a presentation from United Chamber President & CEO\, John LaRue and members of the Executive Committee.  Cocktail reception and social hour to follow the presentation.\n\n\n\nHost Sponsor: Omni Corpus Christi Hotel\n\nSupporting Sponsors: Coastlife Credit Union and KCS Public Relations
X-ALT-DESC;FMTTYPE=text/html:<p><span style="font-size:14px\;"><span style="font-family:verdana\;">Join the United Corpus Christi Chamber of Commerce for the State of the Chamber Update &amp\; Social\, presented Corpus Christi Medical Center.&nbsp\; This event will include a presentation from United Chamber President &amp\; CEO\, John LaRue and members of the Executive Committee.&nbsp\; Cocktail reception and social hour to follow the presentation.<br />\n<br />\n<u>Host Sponsor</u>: Omni Corpus Christi Hotel<br />\n<u>Supporting Sponsors</u>: Coastlife Credit Union and KCS Public Relations</span></span></p>\n
LOCATION:Omni Corpus Christi Hotel Corpus Christi Ballroom C\, 3rd floor 900 N. Shoreline Blvd. Corpus Christi\, TX 78401
UID:e.1866.27406
SEQUENCE:3
DTSTAMP:20260423T085241Z
URL:https://chamber.unitedcorpuschristi.org/events/details/state-of-the-chamber-presented-by-corpus-christi-medical-center-27406
END:VEVENT

END:VCALENDAR
