BEGIN:VCALENDAR
VERSION:2.0
PRODID:-//ChamberMaster//Event Calendar 2.0//EN
METHOD:PUBLISH
X-PUBLISHED-TTL:P3D
REFRESH-INTERVAL:P3D
CALSCALE:GREGORIAN
BEGIN:VEVENT
DTSTART;VALUE=DATE:20220926
DTEND;VALUE=DATE:20220930
TRANSP:TRANSPARENT
X-MICROSOFT-CDO-ALLDAYEVENT:TRUE
SUMMARY:SoundWaves Festival
DESCRIPTION:Enjoy classical music with a twist! Texas A&M University-Corpus Christi is hosting SoundWaves Festival\, Monday\, Sept. 26\, through Thursday\, Sept. 29\, at various locations on campus and in the community. The cutting-edge programming and educational opportunities feature esteemed faculty\, budding artists\, and exciting guests and celebrates the power of music to unite and inspire communities in the beautiful Coastal Bend. Programing includes concerts\, a masterclass\, yoga to the tune of live music\, and elementary school outreach. Visit tamucc.edu/soundwaves for a detailed schedule. Email soundwaves@tamucc.edu with questions.
X-ALT-DESC;FMTTYPE=text/html:<span style="color:rgb(40\, 60\, 70)\; font-family:-apple-system\,system-ui\,system-ui\,segoe ui\,helvetica\,arial\,sans-serif\,apple color emoji\,segoe ui emoji\,segoe ui symbol\; font-size:19.8px">Enjoy classical music with a twist! Texas A&amp\;M University-Corpus Christi is hosting SoundWaves Festival\, Monday\, Sept. 26\, through Thursday\, Sept. 29\, at various locations on campus and in the community. The cutting-edge programming and educational opportunities feature esteemed faculty\, budding artists\, and exciting guests and celebrates the power of music to unite and inspire communities in the beautiful Coastal Bend. Programing includes concerts\, a masterclass\, yoga to the tune of live music\, and elementary school outreach. Visit&nbsp\;</span><a href="https://www.tamucc.edu/liberal-arts/departments/music/soundwaves/index.php" rel="noreferrer" style="box-sizing: border-box\; background-image: initial\; background-position: initial\; background-size: initial\; background-repeat: initial\; background-attachment: initial\; background-origin: initial\; background-clip: initial\; color: var(--color-blue)\; font-family: -apple-system\, system-ui\, system-ui\, &quot\;Segoe UI&quot\;\, Helvetica\, Arial\, sans-serif\, &quot\;Apple Color Emoji&quot\;\, &quot\;Segoe UI Emoji&quot\;\, &quot\;Segoe UI Symbol&quot\;\; font-size: 19.8px\;" target="_blank">tamucc.edu/soundwaves</a><span style="color:rgb(40\, 60\, 70)\; font-family:-apple-system\,system-ui\,system-ui\,segoe ui\,helvetica\,arial\,sans-serif\,apple color emoji\,segoe ui emoji\,segoe ui symbol\; font-size:19.8px">&nbsp\;for a detailed schedule. Email&nbsp\;</span><a href="mailto:soundwaves@tamucc.edu" rel="noreferrer" style="box-sizing: border-box\; background-image: initial\; background-position: initial\; background-size: initial\; background-repeat: initial\; background-attachment: initial\; background-origin: initial\; background-clip: initial\; color: var(--color-blue)\; font-family: -apple-system\, system-ui\, system-ui\, &quot\;Segoe UI&quot\;\, Helvetica\, Arial\, sans-serif\, &quot\;Apple Color Emoji&quot\;\, &quot\;Segoe UI Emoji&quot\;\, &quot\;Segoe UI Symbol&quot\;\; font-size: 19.8px\;" target="_blank">soundwaves@tamucc.edu</a><span style="color:rgb(40\, 60\, 70)\; font-family:-apple-system\,system-ui\,system-ui\,segoe ui\,helvetica\,arial\,sans-serif\,apple color emoji\,segoe ui emoji\,segoe ui symbol\; font-size:19.8px">&nbsp\;with questions.</span>
LOCATION:TAMU-CC Performing Arts Center\, K Space Contemporary Gallery\, Coffee Waves\, Water Dog's Marina Houseboat Studio
UID:e.1866.27726
SEQUENCE:3
DTSTAMP:20260423T192347Z
URL:https://chamber.unitedcorpuschristi.org/events/details/soundwaves-festival-27726
END:VEVENT

END:VCALENDAR
