BEGIN:VCALENDAR
VERSION:2.0
PRODID:-//ChamberMaster//Event Calendar 2.0//EN
METHOD:PUBLISH
X-PUBLISHED-TTL:P3D
REFRESH-INTERVAL:P3D
CALSCALE:GREGORIAN
BEGIN:VEVENT
DTSTART:20220416T200000Z
DTEND:20220416T220000Z
X-MICROSOFT-CDO-ALLDAYEVENT:FALSE
SUMMARY:Sondheim: A Celebration in Song
DESCRIPTION:The Texas A&M University-Corpus Christi Opera will present a tribute to beloved composer Stephen Sondheim on Saturday\, April 16\, at 3 p.m. in the Performing Arts Center. Opera students will perform staged solo and ensemble selections from Sondheim's shows with collaborative pianist Paul Erickson. This performance is directed by Dr. Ellen Denham and is free to the community.
X-ALT-DESC;FMTTYPE=text/html:<span style="color:rgb(40\, 60\, 70)\; font-family:-apple-system\,system-ui\,system-ui\,segoe ui\,helvetica\,arial\,sans-serif\,apple color emoji\,segoe ui emoji\,segoe ui symbol\; font-size:19.8px">The Texas A&amp\;M University-Corpus Christi Opera will present a tribute to beloved composer Stephen Sondheim on Saturday\, April 16\, at 3 p.m. in the Performing Arts Center. Opera students will perform staged solo and ensemble selections from Sondheim&rsquo\;s shows with collaborative pianist Paul Erickson. This performance is directed by Dr. Ellen Denham and is free to the community.</span>
LOCATION:
UID:e.1866.27442
SEQUENCE:3
DTSTAMP:20260423T101934Z
URL:https://chamber.unitedcorpuschristi.org/events/details/sondheim-a-celebration-in-song-27442
END:VEVENT

END:VCALENDAR
