BEGIN:VCALENDAR
VERSION:2.0
PRODID:-//ChamberMaster//Event Calendar 2.0//EN
METHOD:PUBLISH
X-PUBLISHED-TTL:P3D
REFRESH-INTERVAL:P3D
CALSCALE:GREGORIAN
BEGIN:VEVENT
DTSTART:20221116T173000Z
DTEND:20221116T190000Z
X-MICROSOFT-CDO-ALLDAYEVENT:FALSE
SUMMARY:*SOLD OUT* 2022 State of the Port presented by Valero Corpus Christi Refineries
DESCRIPTION:Join the United Corpus Christi Chamber of Commerce for the 2022 State of the Port Address\, presented by Valero Corpus Christi Refineries.  Learn about the latest Port Corpus Christi news and developments from Charles W. Zahn\, Jr.\, Chairman\, Port of Corpus Christi Authority Commission.\n\n\n\nThank you to our 2022 State of the Port Sponsors:\n\nPresenting: Valero Corpus Christi Refineries\n\nPlatinum: Christus Spohn Health System\, Corpus Christi Medical Center\n\nGold: Gulf Coast Growth Ventures\, SpawGlass\n\nSilver: American Bank\, Carlisle Insurance\, Highpoint Wealth Advisors\, LJA Engineering\n\nBronze Sponsors: Braselton Development\, NuStar\, Raba Kistner\, Inc.\, Texas A&M University - Corpus Christi\n\nMultimedia Sponsor: Turner Ramirez Architects\n\nRegistration Sponsor: KCS Public Relations\n\n2022 Signature Events Season Pass Holders: Allen Samuels CDJR\, Charter Bank Corpus Christi\, CoastLife Credit Union\, Corpus Christi Black Chamber of Commerce\, Corpus Christi Association of Realtors\, Corpus Christi Independent School District\,  Kleberg Bank\, Liberty\, USS Lexington Museum on the Bay\, Navy Army Credit Union\, NuStar\, OmniSource\, LLC\, Padre Island Business Association\, Physicians Premier Emergency Room\, Shoreline Title\, State Representative Todd Hunter\, Texas State Aquarium\, Workforce Solutions of the Coastal Bend\, and ZJZ Hospitality\, Inc.
X-ALT-DESC;FMTTYPE=text/html:<span style="font-family:arial\;">Join the United Corpus Christi Chamber of Commerce for the 2022 State of the Port Address\, presented by Valero Corpus Christi Refineries.&nbsp\; Learn&nbsp\;about the latest Port Corpus Christi news and developments from Charles W. Zahn\, Jr.\,&nbsp\;Chairman\, Port of Corpus Christi Authority Commission.<br />\n<br />\n<span style="font-size:14px\;"><strong>Thank you to our 2022 State of the Port Sponsors:</strong><br />\n<u>Presenting</u>: Valero Corpus Christi Refineries<br />\n<u>Platinum</u>: Christus Spohn Health System\, Corpus Christi Medical Center<br />\n<u>Gold:</u>&nbsp\;Gulf Coast Growth Ventures\, SpawGlass<br />\n<u>Silver:</u>&nbsp\;American Bank\, Carlisle Insurance\, Highpoint Wealth Advisors\, LJA Engineering<br />\n<u>Bronze Sponsors</u>: Braselton Development\, NuStar\, Raba Kistner\, Inc.\, Texas A&amp\;M University - Corpus Christi</span></span><br />\n<span style="font-family:arial\;"><span style="font-size:14px\;"><u>Multimedia Sponsor</u>: Turner Ramirez Architects<br />\n<u style="font-size: 14px\;">Registration Sponsor</u>: KCS Public Relations<br />\n<u style="font-family: arial\;">2022 Signature Events Season Pass Holders</u>:&nbsp\;</span></span><span background-color:="" font-size:="" style="color: rgb(51\, 51\, 51)\; font-family: sans-serif\, Arial\, Verdana\, " trebuchet="">Allen Samuels CDJR\, Charter Bank Corpus Christi\, CoastLife Credit Union\, Corpus Christi Black Chamber of Commerce\, Corpus Christi Association of Realtors\, Corpus Christi Independent School District\,&nbsp\; Kleberg Bank\, Liberty\, USS Lexington Museum on the Bay\, Navy Army Credit Union\, NuStar\, OmniSource\, LLC\, Padre Island Business Association\, Physicians Premier Emergency Room\, Shoreline Title\, State Representative Todd Hunter\, Texas State Aquarium\, Workforce Solutions of the Coastal Bend\, and ZJZ Hospitality\, Inc.</span><br background-color:="" font-size:="" style="color: rgb(51\, 51\, 51)\; font-family: sans-serif\, Arial\, Verdana\, " trebuchet="" />\n<br />\n<br />\n&nbsp\;
LOCATION:Solomon P. Ortiz Center 402 Harbor Drive Corpus Christi\, TX 78401
UID:e.1866.27468
SEQUENCE:3
DTSTAMP:20260423T210307Z
URL:https://chamber.unitedcorpuschristi.org/events/details/sold-out-2022-state-of-the-port-presented-by-valero-corpus-christi-refineries-27468
END:VEVENT

END:VCALENDAR
