BEGIN:VCALENDAR
VERSION:2.0
PRODID:-//ChamberMaster//Event Calendar 2.0//EN
METHOD:PUBLISH
X-PUBLISHED-TTL:P3D
REFRESH-INTERVAL:P3D
CALSCALE:GREGORIAN
BEGIN:VEVENT
DTSTART:20220505T223000Z
DTEND:20220506T000000Z
X-MICROSOFT-CDO-ALLDAYEVENT:FALSE
SUMMARY:Ribbon Cutting for ZuMama Fitness LLC / Casa Ortiz Event Center
DESCRIPTION:We are excited about the expansion of our facility by offering more to our community. ZuMama Fitness has been committed to delivering excellence in everything we do.\n\n\n\nWe have come full circle to where it all began for Jennifer Casas and Esmeralda Megee 14 years ago.\n\n\n\nThis all started with Esmeralda's purchase of a ZUMBA dvd in 2004 to her daughter Jennifer's certification in 2006 which began the ZUMBA craze in 2008 in our community.
X-ALT-DESC;FMTTYPE=text/html:We are excited about the expansion of our facility by offering more to our community. ZuMama Fitness has been committed to delivering excellence in everything we do.<br />\n<br />\nWe have come full circle to where it all began for Jennifer Casas and Esmeralda Megee 14 years ago.<br />\n<br />\nThis all started with Esmeralda&#39\;s purchase of a ZUMBA dvd in 2004 to her daughter&nbsp\;Jennifer&#39\;s certification in 2006 which began the ZUMBA craze in 2008 in our community.
LOCATION:4411 Gollihar Road Corpus Christi\, TX 78411
UID:e.1866.27444
SEQUENCE:3
DTSTAMP:20260423T121951Z
URL:https://chamber.unitedcorpuschristi.org/events/details/ribbon-cutting-for-zumama-fitness-llc-casa-ortiz-event-center-27444
END:VEVENT

END:VCALENDAR
