BEGIN:VCALENDAR
VERSION:2.0
PRODID:-//ChamberMaster//Event Calendar 2.0//EN
METHOD:PUBLISH
X-PUBLISHED-TTL:P3D
REFRESH-INTERVAL:P3D
CALSCALE:GREGORIAN
BEGIN:VEVENT
DTSTART:20220722T020000Z
DTEND:20220722T040000Z
X-MICROSOFT-CDO-ALLDAYEVENT:FALSE
SUMMARY:Ribbon Cutting for YMCA of the Coastal Bend
DESCRIPTION:YMCA of the Coastal Bend is a non-profit organization that focuses on youth development\, healthy living and social responsibility.  We offer membership and programs that meets the wellness needs of the Coastal Bend Community.  We bring people together to develop strong positive relationships to restore hope and well-being.\n\n \n\nThe YMCA will do a drawing for a Free 30 Day YMCA Family Membership\n\n \n\nThanks to generous supporters for the possibility to install extra cameras and a front door access mag-lock system\, the YMCA of the Coastal Bend is excited to now offer 24 Hour Access/ 7 Days a week to our 18 and over members. This added benefit should be appealing to shift workers and those individuals that  find it more convenient to fit a workout in on their time. \n\n \n\nYMCA of the Coastal Bend History \n\n  First started in the coastal bend area in 1886 offering programs & services through Bible study for young men and boys.\n\n  Incorporated in 1939\n\n  1940's the YMCA became an inclusive organization concentrating on the needs of the family unit and providing activities for all ages. \n\n  YMCA Building was built in 1942 ($100\,000 campaign)\n\n  1990\, the YMCA began offering outreach services & programs that focus on at-risk youth in under-served neighborhoods.\n\n  2013\, Additional 9\,800 sq. ft. building was added to existing.
X-ALT-DESC;FMTTYPE=text/html:<div>YMCA of the Coastal Bend is a non-profit organization that focuses on youth development\, healthy living and social responsibility.&nbsp\; We offer membership and programs that meets the wellness needs of the Coastal Bend Community.&nbsp\; We bring people together to develop strong positive relationships to restore hope and well-being.</div>\n\n<div>&nbsp\;</div>\n\n<div>The YMCA will do a drawing for a Free 30 Day YMCA Family Membership</div>\n\n<div>&nbsp\;</div>\n\n<div>Thanks to generous supporters for the possibility to install extra cameras and a front door access mag-lock system\, the YMCA of the Coastal Bend is excited to now offer 24 Hour Access/ 7 Days a week to our 18 and over members. This added benefit should be appealing to shift workers and those individuals that&nbsp\; find it more convenient to fit a workout in on their time.&nbsp\;<br />\n&nbsp\;</div>\n\n<div>YMCA of the Coastal Bend History&nbsp\;</div>\n\n<div>&bull\;<span style="white-space:pre"> </span>First started in the coastal bend area in 1886 offering programs &amp\; services through Bible study for young men and boys.</div>\n\n<div>&bull\;<span style="white-space:pre"> </span>Incorporated in 1939</div>\n\n<div>&bull\;<span style="white-space:pre"> </span>1940&rsquo\;s the YMCA became an inclusive organization concentrating on the needs of the family unit and providing activities for all ages.&nbsp\;</div>\n\n<div>&bull\;<span style="white-space:pre"> </span>YMCA Building was built in 1942 ($100\,000 campaign)</div>\n\n<div>&bull\;<span style="white-space:pre"> </span>1990\, the YMCA began offering outreach services &amp\; programs that focus on at-risk youth in under-served neighborhoods.</div>\n\n<div>&bull\;<span style="white-space:pre"> </span>2013\, Additional 9\,800 sq. ft. building was added to existing.</div>\n\n<div>&nbsp\;</div>\n
LOCATION:417 S. Upper Broadway\, CC TX 78401
UID:e.1866.27488
SEQUENCE:3
DTSTAMP:20260423T145845Z
URL:https://chamber.unitedcorpuschristi.org/events/details/ribbon-cutting-for-ymca-of-the-coastal-bend-27488
END:VEVENT

END:VCALENDAR
