BEGIN:VCALENDAR
VERSION:2.0
PRODID:-//ChamberMaster//Event Calendar 2.0//EN
METHOD:PUBLISH
X-PUBLISHED-TTL:P3D
REFRESH-INTERVAL:P3D
CALSCALE:GREGORIAN
BEGIN:VEVENT
DTSTART:20230315T160000Z
DTEND:20230315T180000Z
X-MICROSOFT-CDO-ALLDAYEVENT:FALSE
SUMMARY:Ribbon Cutting for WIN SUPPLY OF CORPUS CHRISIT TEXAS CO
DESCRIPTION:As a veteran in the HVAC Industry\, I am thrilled to own and operate my own HVAC Supply House. We strive to offer the best customer service to the AC contractors we have in the Corpus Christi area. WinSupply is a wholesale HVAC Supply House   selling to licenses AC professionals. \n\n \n\nTeysha Dougherty is a Corpus Christi native. After opening two other successful small businesses\, Corpus Christi Crawfish and Classy Cleaners of Corpus\, while working her full time HVAC sales job- she decided to pursue her dream of owning an HVAC Supply House. Dougherty is a passionate leader in our community\, serving on the Salvation Army Board and a graduate of Leadership Corpus Christi\, Class 50. She plans to use her servant leadership skills to best serve her customers at WinSupply.  \n\n \n\nWe will have a live DJ and remote radio broadcast for the ribbon cutting. Over 15 HVAC Manufacturers will be set up featuring their products and offering door prizes. \n\n \n\nThere is an Ecobee Smart Thermostat class from 9-10am (registration required)\, a Vendor Showcase from 10am   2pm\, formal ribbon cutting at 11am\, and lunch will be served at noon.
X-ALT-DESC;FMTTYPE=text/html:<div>As a veteran in the HVAC Industry\, I am thrilled to own and operate my own HVAC Supply House. We strive to offer the best customer service to the AC contractors we have in the Corpus Christi area. WinSupply is a wholesale HVAC Supply House &ndash\; selling to licenses AC professionals.&nbsp\;</div>\n\n<div>&nbsp\;</div>\n\n<div>Teysha Dougherty is a Corpus Christi native. After opening two other successful small businesses\, Corpus Christi Crawfish and Classy Cleaners of Corpus\, while working her full time HVAC sales job- she decided to pursue her dream of owning an HVAC Supply House. Dougherty is a passionate leader in our community\, serving on the Salvation Army Board and a graduate of Leadership Corpus Christi\, Class 50. She plans to use her servant leadership skills to best serve her customers at WinSupply.&nbsp\;&nbsp\;</div>\n\n<div>&nbsp\;</div>\n\n<div>We will have a live DJ and remote radio broadcast for the ribbon cutting. Over 15 HVAC Manufacturers will be set up featuring their products and offering door prizes.&nbsp\;</div>\n\n<div>&nbsp\;</div>\n\n<div>There is an Ecobee Smart Thermostat class from 9-10am (registration required)\, a Vendor Showcase from 10am &ndash\; 2pm\, formal ribbon cutting at 11am\, and lunch will be served at noon.&nbsp\;</div>\n
LOCATION:4922 Bush Street\, STE 116\, Corpus Christi Texas.
UID:e.1866.28671
SEQUENCE:3
DTSTAMP:20260424T025330Z
URL:https://chamber.unitedcorpuschristi.org/events/details/ribbon-cutting-for-win-supply-of-corpus-chrisit-texas-co-28671
END:VEVENT

END:VCALENDAR
