BEGIN:VCALENDAR
VERSION:2.0
PRODID:-//ChamberMaster//Event Calendar 2.0//EN
METHOD:PUBLISH
X-PUBLISHED-TTL:P3D
REFRESH-INTERVAL:P3D
CALSCALE:GREGORIAN
BEGIN:VEVENT
DTSTART:20221028T140000Z
DTEND:20221028T150000Z
X-MICROSOFT-CDO-ALLDAYEVENT:FALSE
SUMMARY:Ribbon Cutting for Walmart Calallen #464
DESCRIPTION:The store has remodeled and rejuvenated it's 28-year-old building from landscaping\, floors to departmental layouts and assortments. The pharmacy has been moved forward to make it more convenient and quicker for the customers.  There is still an expanded On-line delivery and Pick up building coming that will allow us to serve more customers every day and make their shopping quicker and easier.\n\n\n\nJohn Ganley\, Store Manager has worked for Walmart for 28 years. He started his career as an unloader at the old Everhart location that is now Sam's Club.
X-ALT-DESC;FMTTYPE=text/html:The store has remodeled and rejuvenated it&#39\;s 28-year-old building from landscaping\, floors to departmental layouts and assortments. The pharmacy has been moved forward to make it more convenient and quicker for the customers.&nbsp\; There is still an expanded On-line delivery and Pick up building coming that will allow us to serve more customers every day and make their shopping quicker and easier.<br />\n<br />\nJohn Ganley\, Store Manager has worked for Walmart for 28 years. He started his career as an unloader at the old Everhart location that is now Sam&rsquo\;s Club.<br />\n<br />\n<br />\n<br />\n
LOCATION:3829 US highway 77 Corpus Christi\, TX 78410
UID:e.1866.27752
SEQUENCE:3
DTSTAMP:20260423T193707Z
URL:https://chamber.unitedcorpuschristi.org/events/details/ribbon-cutting-for-walmart-calallen-464-27752
END:VEVENT

END:VCALENDAR
