BEGIN:VCALENDAR
VERSION:2.0
PRODID:-//ChamberMaster//Event Calendar 2.0//EN
METHOD:PUBLISH
X-PUBLISHED-TTL:P3D
REFRESH-INTERVAL:P3D
CALSCALE:GREGORIAN
BEGIN:VEVENT
DTSTART:20230215T230000Z
DTEND:20230216T000000Z
X-MICROSOFT-CDO-ALLDAYEVENT:FALSE
SUMMARY:Ribbon Cutting for UrgentCare2go
DESCRIPTION:We will be giving away free Vitamin b12 shots.  Free Blood glucose and blood pressure checks\n\n\n\nUrgentCare2Go is excited to bring their new way of doing Urgent Care to Corpus Christi. Our UrgentCare services allow for patients to be seen at work\, at home\, or over the phone. We have been servicing all over Texas and are excited to bring our service to Corpus Christi.\n\n\n\nWe will having influencers of social media helping promote the event via a live stream.
X-ALT-DESC;FMTTYPE=text/html:We will be giving away free Vitamin b12 shots.&nbsp\; Free Blood glucose and blood pressure checks<br />\n<br />\nUrgentCare2Go is excited to bring their new way of doing Urgent Care to Corpus Christi. Our UrgentCare services allow for patients to be seen at work\, at home\, or over the phone. We have been servicing all over Texas and are excited to bring our service to Corpus Christi.<br />\n<br />\nWe will having influencers of social media helping promote the event via a live stream.<br />\n
LOCATION:4444 Corona Dr\, Corpus Christi\, Tx 78411
UID:e.1866.28520
SEQUENCE:3
DTSTAMP:20260424T003547Z
URL:https://chamber.unitedcorpuschristi.org/events/details/ribbon-cutting-for-urgentcare2go-28520
END:VEVENT

END:VCALENDAR
