BEGIN:VCALENDAR
VERSION:2.0
PRODID:-//ChamberMaster//Event Calendar 2.0//EN
METHOD:PUBLISH
X-PUBLISHED-TTL:P3D
REFRESH-INTERVAL:P3D
CALSCALE:GREGORIAN
BEGIN:VEVENT
DTSTART:20220323T223000Z
DTEND:20220324T000000Z
X-MICROSOFT-CDO-ALLDAYEVENT:FALSE
SUMMARY:Ribbon Cutting for The Texas Cardiac and Vascular Institute
DESCRIPTION:The Texas Cardio and Vascular Institute uses state-of the-art technology.  This technology allows our interventional cardiologists to perform procedures to re-vascularize blood flow to the legs of peripheral artery disease (PAD) patients. These procedures are saving the limbs and lives of those in the greater Corpus Christi area.\n\n \n\nWoundCentrics is excited to partner with Arise Vascular to open the Texas Cardiac and Vascular Institute in Corpus Christi. \n\n \n\nThere will be tours of the procedure room (operating room) where the latest technology is used to save limbs and lives while preventing limb amputations.
X-ALT-DESC;FMTTYPE=text/html:<div>The Texas Cardio and Vascular Institute uses state-of the-art technology.&nbsp\; This technology allows our interventional cardiologists to perform procedures to re-vascularize blood flow to the legs of peripheral artery disease (PAD) patients. These procedures are saving the limbs and lives of those in the greater Corpus Christi area.</div>\n\n<div>&nbsp\;</div>\n\n<div>WoundCentrics is excited to partner with Arise Vascular to open the Texas Cardiac and Vascular Institute in Corpus Christi.&nbsp\;<br />\n&nbsp\;</div>\n\n<div>There will be tours of the procedure room (operating room) where the latest technology is used to save limbs and lives while preventing limb amputations.</div>\n
LOCATION:1533 5th St. Corpus Christi\, TX 78404
UID:e.1866.27393
SEQUENCE:3
DTSTAMP:20260423T085150Z
URL:https://chamber.unitedcorpuschristi.org/events/details/ribbon-cutting-for-the-texas-cardiac-and-vascular-institute-27393
END:VEVENT

END:VCALENDAR
