BEGIN:VCALENDAR
VERSION:2.0
PRODID:-//ChamberMaster//Event Calendar 2.0//EN
METHOD:PUBLISH
X-PUBLISHED-TTL:P3D
REFRESH-INTERVAL:P3D
CALSCALE:GREGORIAN
BEGIN:VEVENT
DTSTART:20220602T180000Z
DTEND:20220602T200000Z
X-MICROSOFT-CDO-ALLDAYEVENT:FALSE
SUMMARY:Ribbon Cutting for The Stretch Zone
DESCRIPTION:Our business provides practitioner assisted stretching with the goal of improving flexibility\, mobility\, and prevent injuries. Stretch Zone stretches have been developed over years of research and studies by some of the best physical therapists\, occupational therapists\, chiropractors\, and athletic trainers. \n\n \n\nWe will be giving free sessions away as prizes. \n\n \n\nStretch Zone is excited to be a part of this amazing community and to provide our services to everyone here. We look forward to helping the community to be more flexible and treat any injuries that we can. \n\n \n\nWe plan on having a DJ\, a dunk tank\, as well as a food truck.
X-ALT-DESC;FMTTYPE=text/html:Our business provides practitioner assisted stretching with the goal of improving flexibility\, mobility\, and prevent injuries. Stretch Zone stretches have been developed over years of research and studies by some of the best physical therapists\, occupational therapists\, chiropractors\, and athletic trainers.&nbsp\;<br />\n&nbsp\;<br />\nWe will be giving free sessions away as prizes.&nbsp\;<br />\n&nbsp\;<br />\nStretch Zone is excited to be a part of this amazing community and to provide our services to everyone here. We look forward to helping the community to be more flexible and treat any injuries that we can.&nbsp\;<br />\n&nbsp\;<br />\nWe plan on having a DJ\, a dunk tank\, as well as a food truck.<br />\n
LOCATION:4938 S Staples St\, Suite C11. We are in the shopping center across from the mall\, next door to the Ramen Legend.
UID:e.1866.27463
SEQUENCE:3
DTSTAMP:20260423T132015Z
URL:https://chamber.unitedcorpuschristi.org/events/details/ribbon-cutting-for-the-stretch-zone-27463
END:VEVENT

END:VCALENDAR
