BEGIN:VCALENDAR
VERSION:2.0
PRODID:-//ChamberMaster//Event Calendar 2.0//EN
METHOD:PUBLISH
X-PUBLISHED-TTL:P3D
REFRESH-INTERVAL:P3D
CALSCALE:GREGORIAN
BEGIN:VEVENT
DTSTART:20230304T160000Z
DTEND:20230304T180000Z
X-MICROSOFT-CDO-ALLDAYEVENT:FALSE
SUMMARY:Ribbon Cutting for The Miracle League of Corpus Christi
DESCRIPTION:For the past 12 years Miracle League has offered year round sports/recreation programs for ALL Special needs youth and adults in the Coastal Bend. We are the FIRST Special Needs zero obstruction field in South Texas.\n\n\n\nThe Miracle League of CC is excited to be a member of the United Corpus Christi Chamber! Without the support of businesses\, volunteers\, donors and the City of Corpus Christi our Special Needs population would not have access to year-round sports that help to improve physical fitness\, socialization\, mobility\, coordination and team-building.\n\n\n\nThe Miracle League of CC began as a Rotary Club of CC Evening project led by Brian Devaney. After 4 years of fundraising $750\,000 to build the field\, we opened the first season in March 2011. Our sports programming has expanded and we are so proud to offer more athletic opportunities than any other Miracle League in the country. We are excited and looking forward to eventually and strategically expand our facilities to include an adult size multi-purpose field next our field. This will enable even more adult special needs sports in the Coastal Bend.
X-ALT-DESC;FMTTYPE=text/html:For the past 12 years Miracle League has offered year round sports/recreation programs for ALL Special needs youth and adults in the Coastal Bend. We are the FIRST Special Needs zero obstruction field in South Texas.<br />\n<br />\nThe Miracle League of CC is excited to be a member of the United Corpus Christi Chamber! Without the support of businesses\, volunteers\, donors and the City of Corpus Christi our Special Needs population would not have access to year-round sports that help to improve physical fitness\, socialization\, mobility\,&nbsp\;coordination and team-building.<br />\n<br />\nThe Miracle League of CC began as a Rotary Club of CC Evening project led by Brian Devaney. After 4 years of fundraising $750\,000 to build the field\, we opened the first season in March 2011. Our sports programming has expanded and we are so proud to offer more athletic opportunities than any other Miracle&nbsp\;League in the country. We are excited and looking forward to eventually and strategically expand our&nbsp\;facilities to include an adult size multi-purpose field next our field. This will enable even more adult special needs sports in the Coastal Bend.&nbsp\;
LOCATION:1354 Airport Rd Corpus Christi\, TX
UID:e.1866.28659
SEQUENCE:3
DTSTAMP:20260424T025506Z
URL:https://chamber.unitedcorpuschristi.org/events/details/ribbon-cutting-for-the-miracle-league-of-corpus-christi-28659
END:VEVENT

END:VCALENDAR
