BEGIN:VCALENDAR
VERSION:2.0
PRODID:-//ChamberMaster//Event Calendar 2.0//EN
METHOD:PUBLISH
X-PUBLISHED-TTL:P3D
REFRESH-INTERVAL:P3D
CALSCALE:GREGORIAN
BEGIN:VEVENT
DTSTART:20220923T230000Z
DTEND:20220924T010000Z
X-MICROSOFT-CDO-ALLDAYEVENT:FALSE
SUMMARY:Ribbon Cutting for the Ice Rays
DESCRIPTION:Let us celebrate the Ice Ray's Home Opener! \n\nChamber Members will be meeting at the Texas Bar
X-ALT-DESC;FMTTYPE=text/html:Let us celebrate the Ice Ray&#39\;s Home Opener!&nbsp\;<br />\nChamber Members will be meeting at the Texas Bar&nbsp\;
LOCATION:American Bank Center 1901 N Shoreline Blvd\, Corpus Christi\, TX 78401
UID:e.1866.27730
SEQUENCE:3
DTSTAMP:20260423T180217Z
URL:https://chamber.unitedcorpuschristi.org/events/details/ribbon-cutting-for-the-ice-rays-27730
END:VEVENT

END:VCALENDAR
