BEGIN:VCALENDAR
VERSION:2.0
PRODID:-//ChamberMaster//Event Calendar 2.0//EN
METHOD:PUBLISH
X-PUBLISHED-TTL:P3D
REFRESH-INTERVAL:P3D
CALSCALE:GREGORIAN
BEGIN:VEVENT
DTSTART:20221013T213000Z
DTEND:20221013T230000Z
X-MICROSOFT-CDO-ALLDAYEVENT:FALSE
SUMMARY:Ribbon Cutting for Surgical Solutions of Coastal Bend
DESCRIPTION:Surgical Solutions of Coastal Bend is a luxury post surgical recovery retreat designed to provide quality care with a private healing space overlooking the water. We provide services for our clients that include transportation\, massage and IV therapy\, assistance with daily care\, bandages\, drains and more. Our dedicated staff is committed to the surgical patients discreet stay and to provide an extra layer of support during our clients time of healing. \n\n\n\nWe are honored to bring a new concept of care to the Coastal Bend area. Our vision for many years while traveling the world with my husband's career within the Marine Corps was to bring years of experience and knowledge back to our community that we call home!\n\n\n\nCindi has worked for over 20 years in the nursing field with specialties related to emergency medicine\, surgical recovery units and family medicine. Completing her Doctorate in Nursing while working as a nurse practitioner provides the perfect blend of experience and knowledge to support the clients of Surgical Solutions of Coastal Bend and promote best outcomes related to surgical recovery and more.
X-ALT-DESC;FMTTYPE=text/html:Surgical Solutions of Coastal Bend is a luxury post surgical recovery retreat designed to provide quality care with a private healing space overlooking the water. We provide services for our clients that include transportation\, massage and IV therapy\, assistance with daily care\, bandages\, drains and more. Our dedicated staff is committed to the surgical patients discreet stay and to provide an extra layer of support during our clients time of healing.&nbsp\;<br />\n<br />\nWe are honored to bring a new concept of care to the Coastal Bend area. Our vision for many years while traveling the world with my husband&rsquo\;s career within the Marine Corps was to bring years of experience and knowledge back to our community that we call home!<br />\n<br />\nCindi has worked for over 20 years in the nursing field with specialties related to emergency medicine\, surgical recovery units and family medicine. Completing her Doctorate in Nursing while working as a nurse practitioner provides the perfect blend of experience and knowledge to support the clients of Surgical Solutions of Coastal Bend and promote best outcomes related to surgical recovery and more.&nbsp\;<br />\n<br />\n&nbsp\;<br />\n
LOCATION:The Alexa Luxury Apartments 4602 Ocean Dr Corpus Christi\, Tx. 78412 On Ocean Dr\, close to Spohn Shoreline Hospital
UID:e.1866.27722
SEQUENCE:3
DTSTAMP:20260423T204804Z
URL:https://chamber.unitedcorpuschristi.org/events/details/ribbon-cutting-for-surgical-solutions-of-coastal-bend-27722
END:VEVENT

END:VCALENDAR
