BEGIN:VCALENDAR
VERSION:2.0
PRODID:-//ChamberMaster//Event Calendar 2.0//EN
METHOD:PUBLISH
X-PUBLISHED-TTL:P3D
REFRESH-INTERVAL:P3D
CALSCALE:GREGORIAN
BEGIN:VEVENT
DTSTART:20220826T170000Z
DTEND:20220826T190000Z
X-MICROSOFT-CDO-ALLDAYEVENT:FALSE
SUMMARY:Ribbon Cutting for StretchZone
DESCRIPTION:Here at StretchZone\, we provide a service called practitioner-assisted stretching. It is like personal training but for stretching. Our Clients come in\, and you lay on a comfortable table\; we do all the work while you get all the benefits. Some of the benefits include flexibility\, improved range of motion\, leg stiffness and tightness\, and improve athletic improvement. \n\n\n\nAll in attendance will be offered a sample stretch.\n\n \n\nWe are thrilled to partner with our community to begin changing the landscape of health and fitness in Corpus Christi.\n\n \n\n10 years ago we pioneered the concept of practitioner assisted stretching at a therapeutic level and are pleased that we can offer our services to a wide array of participants. \n\n \n\nCut the ribbon\, do a demo\, door prizes\, offer everyone a chance to get a sample stretch\, sign up anyone who is interested.
X-ALT-DESC;FMTTYPE=text/html:<div>Here at StretchZone\, we provide a service called practitioner-assisted stretching. It is like personal training but for stretching. Our Clients come in\, and you lay on a comfortable table\; we do all the work while you get all the benefits. Some of the benefits include flexibility\, improved range of motion\, leg stiffness and tightness\, and improve athletic improvement.&nbsp\;</div>\n\n<div><br />\nAll in attendance will be offered a sample stretch.</div>\n\n<div>&nbsp\;</div>\n\n<div>We are thrilled to partner with our community to begin changing the landscape of health and fitness in Corpus Christi.</div>\n\n<div>&nbsp\;</div>\n\n<div>10 years ago we pioneered the concept of practitioner assisted stretching at a therapeutic level and are pleased that we can offer our services to a wide array of participants.&nbsp\;</div>\n\n<div>&nbsp\;</div>\n\n<div>Cut the ribbon\, do a demo\, door prizes\, offer everyone a chance to get a sample stretch\, sign up anyone who is interested.</div>\n
LOCATION:4938 S. Staples C-11 Next to Raman Legend
UID:e.1866.27500
SEQUENCE:3
DTSTAMP:20260423T162854Z
URL:https://chamber.unitedcorpuschristi.org/events/details/ribbon-cutting-for-stretchzone-27500
END:VEVENT

END:VCALENDAR
