BEGIN:VCALENDAR
VERSION:2.0
PRODID:-//ChamberMaster//Event Calendar 2.0//EN
METHOD:PUBLISH
X-PUBLISHED-TTL:P3D
REFRESH-INTERVAL:P3D
CALSCALE:GREGORIAN
BEGIN:VEVENT
DTSTART:20220406T220000Z
DTEND:20220407T000000Z
X-MICROSOFT-CDO-ALLDAYEVENT:FALSE
SUMMARY:Ribbon Cutting for Sal's Bronx Pizza
DESCRIPTION:Sal's Bronx Pizza by Bella Luna Downtown is an authentic NY style pizzeria located on the south side. Our menu includes thin crust\, deep dish\, gluten free cauliflower crust and Sicilian style pizza along with stromboli\, calzones\, fresh salads and more!
X-ALT-DESC;FMTTYPE=text/html:Sal&#39\;s Bronx Pizza by Bella Luna Downtown is an authentic NY style pizzeria located on the south side. Our menu includes thin crust\, deep dish\, gluten free cauliflower crust and Sicilian style pizza along with stromboli\, calzones\, fresh salads and more!
LOCATION:5922 Yorktown Blvd Ste 106\, Corpus Christi\, TX 78414
UID:e.1866.27385
SEQUENCE:3
DTSTAMP:20260423T114043Z
URL:https://chamber.unitedcorpuschristi.org/events/details/ribbon-cutting-for-sal-s-bronx-pizza-27385
END:VEVENT

END:VCALENDAR
