BEGIN:VCALENDAR
VERSION:2.0
PRODID:-//ChamberMaster//Event Calendar 2.0//EN
METHOD:PUBLISH
X-PUBLISHED-TTL:P3D
REFRESH-INTERVAL:P3D
CALSCALE:GREGORIAN
BEGIN:VEVENT
DTSTART:20220412T160000Z
DTEND:20220412T180000Z
X-MICROSOFT-CDO-ALLDAYEVENT:FALSE
SUMMARY:Ribbon Cutting for ROBSTOWN AREA DEVELOPMENT COMMISSION
DESCRIPTION:The RADC promotes the economic growth and stability of the City of Robstown and adjacent areas of Nueces County. We work with industry and interested private citizens to establish a favorable business climate.\n\n\n\nThere will be vendors from local Robstown businesses.\n\n\n\nThe Robstown Area Development Commission is excited to locate its new office here at the Crossroads District as it truly is the at the crossroads of economic opportunity for the Coastal Bend.  We appreciate the support of Nueces County\, the Port of Corpus Christi and the Robstown Utility System as we continue the mission of the RADC to promote economic growth.
X-ALT-DESC;FMTTYPE=text/html:&nbsp\;The RADC promotes the economic growth and stability of the City of Robstown and adjacent areas of Nueces County. We work with industry and interested private citizens to establish a favorable business climate.<br />\n<br />\nThere will be vendors from local Robstown businesses.<br />\n<br />\nThe Robstown Area Development Commission is excited to locate its new office here at the Crossroads District as it truly is the at the crossroads of economic opportunity for the Coastal Bend.&nbsp\; We appreciate the support of Nueces County\, the Port of Corpus Christi and the Robstown Utility System as we continue the mission of the RADC to promote economic growth.<br />\n
LOCATION:500 N IH 69\, Robstown\, TX 78380-Former outlet mall near the Nueces County Fairgrounds
UID:e.1866.27436
SEQUENCE:3
DTSTAMP:20260423T101609Z
URL:https://chamber.unitedcorpuschristi.org/events/details/ribbon-cutting-for-robstown-area-development-commission-27436
END:VEVENT

END:VCALENDAR
