BEGIN:VCALENDAR
VERSION:2.0
PRODID:-//ChamberMaster//Event Calendar 2.0//EN
METHOD:PUBLISH
X-PUBLISHED-TTL:P3D
REFRESH-INTERVAL:P3D
CALSCALE:GREGORIAN
BEGIN:VEVENT
DTSTART:20221005T210000Z
DTEND:20221005T230000Z
X-MICROSOFT-CDO-ALLDAYEVENT:FALSE
SUMMARY:Ribbon Cutting for RNR 365 Solutions LLC/ Non Emergency Medical Transportation
DESCRIPTION:While working for other Nemt companies as well as being responsible for my elderly parents getting to and from their doctors appointments\, I decided to open RNR 365 Solutions LLC after seeing so many people not able to get to their appointments. Many don't have Medicare or Medicaid and or reliable transportation. Having the experience from the NEMT companies I learned that it is very important that our community of senior citizens and our fellow veterans are taken care of. We love our community and appreciate their support . As always we are here to help!!
X-ALT-DESC;FMTTYPE=text/html:While working for other Nemt companies as well as being responsible for my elderly parents getting to and from their doctors appointments\, I decided to open RNR 365 Solutions LLC after seeing so many people not able to get to their appointments. Many don&rsquo\;t have Medicare or Medicaid and or reliable transportation. Having the experience from the NEMT companies I learned that it is very important that our community of senior citizens and our fellow veterans are taken care of. We love our community and appreciate their support . As always we are here to help!!&nbsp\;
LOCATION:4220 SPID Suite 212 Corpus Christi\, TX
UID:e.1866.27723
SEQUENCE:3
DTSTAMP:20260423T194046Z
URL:https://chamber.unitedcorpuschristi.org/events/details/ribbon-cutting-for-rnr-365-solutions-llc-non-emergency-medical-transportation-27723
END:VEVENT

END:VCALENDAR
