BEGIN:VCALENDAR
VERSION:2.0
PRODID:-//ChamberMaster//Event Calendar 2.0//EN
METHOD:PUBLISH
X-PUBLISHED-TTL:P3D
REFRESH-INTERVAL:P3D
CALSCALE:GREGORIAN
BEGIN:VEVENT
DTSTART:20230330T160000Z
DTEND:20230330T170000Z
X-MICROSOFT-CDO-ALLDAYEVENT:FALSE
SUMMARY:Ribbon Cutting for RMA Public Schools – Corpus Christi
DESCRIPTION:RMA Corpus Christi is a Public School focusing on Drop Out Prevention\, Credit Recovery\, and Accelerated Learning Opportunities.  We are deeply appreciative of the generosity of the donation by Frost Bank and Epic Insurance Brokers providing a basketball court for our students to use on campus.  By providing our students with a second chance\, we are demonstrating their importance in our future . \n\n\n\nRMA has operated in Corpus Christi since 1999\, for 21 years.   We have served over 4000 students in the coastal bend area. \n\n\n\nRibbon Cutting for the Basketball Court on Campus   Donated by Epic Insurance Brokers and Frost Bank.
X-ALT-DESC;FMTTYPE=text/html:RMA Corpus Christi is a Public School focusing on Drop Out Prevention\, Credit Recovery\, and Accelerated Learning Opportunities.&nbsp\; We are deeply appreciative of the generosity of the donation by Frost Bank and Epic Insurance Brokers providing a basketball court for our students to use on campus.&nbsp\; By providing our students with a second chance\, we are demonstrating their importance in our future .&nbsp\;<br />\n<br />\nRMA has operated in Corpus Christi since 1999\, for 21 years.&nbsp\; &nbsp\;We have served over 4000 students in the coastal bend area.&nbsp\;<br />\n<br />\nRibbon Cutting for the Basketball Court on Campus &ndash\; Donated by Epic Insurance Brokers and Frost Bank.
LOCATION:3512 South Staples Street Corpus Christi\, TX 78411
UID:e.1866.28661
SEQUENCE:3
DTSTAMP:20260424T024855Z
URL:https://chamber.unitedcorpuschristi.org/events/details/ribbon-cutting-for-rma-public-schools-corpus-christi-28661
END:VEVENT

END:VCALENDAR
