BEGIN:VCALENDAR
VERSION:2.0
PRODID:-//ChamberMaster//Event Calendar 2.0//EN
METHOD:PUBLISH
X-PUBLISHED-TTL:P3D
REFRESH-INTERVAL:P3D
CALSCALE:GREGORIAN
BEGIN:VEVENT
DTSTART:20220711T213000Z
DTEND:20220711T230000Z
X-MICROSOFT-CDO-ALLDAYEVENT:FALSE
SUMMARY:Ribbon Cutting for Resource One-Stop Veterans Advocacy Foundation
DESCRIPTION:Our mission here at Resource One Stop is to serve our military service veteran's who honorably served.
X-ALT-DESC;FMTTYPE=text/html:Our mission here at Resource One Stop is to serve our military service veteran&#39\;s who honorably served.&nbsp\;
LOCATION:400 Mann St\, Corpus Christi\, Texas 78401 -Suite 900
UID:e.1866.27473
SEQUENCE:3
DTSTAMP:20260423T151019Z
URL:https://chamber.unitedcorpuschristi.org/events/details/ribbon-cutting-for-resource-one-stop-veterans-advocacy-foundation-27473
END:VEVENT

END:VCALENDAR
