BEGIN:VCALENDAR
VERSION:2.0
PRODID:-//ChamberMaster//Event Calendar 2.0//EN
METHOD:PUBLISH
X-PUBLISHED-TTL:P3D
REFRESH-INTERVAL:P3D
CALSCALE:GREGORIAN
BEGIN:VEVENT
DTSTART:20230321T210000Z
DTEND:20230321T230000Z
X-MICROSOFT-CDO-ALLDAYEVENT:FALSE
SUMMARY:Ribbon Cutting for Red Cross-Coastal Bend Chapter
DESCRIPTION:The American Red Cross of Coastal Bend serves 19 counties including Aransas\, Bee\, Calhoun\, Colorado\, DeWitt\, Duval\, Goliad\, Jackson\, Jim Wells\, Kleberg\, Lavaca\, Live Oak\, Matagorda\, McMullen\, Nueces\, Refugio\, San Patricio\, Wharton and Victoria with services including disaster relief\, CPR training and assistance to military personnel\, veterans and\n\ntheir families. \n\n\n\nRefreshments and open house\n\n\n\nThe Red Cross welcomes a new Executive Director to the Coastal Bend Chapter\, Ms. Angelina Garcia. Angelina states:\n\n"As disasters increase in frequency and intensity\, I am pleased to have joined a community centered organization that works cooperatively with community leaders and partners to increase resiliency in the communities we serve."\n\n\n\nThe American Red Cross prevents and alleviates human suffering in the face of emergencies by mobilizing the power of volunteers and the generosity of donors.
X-ALT-DESC;FMTTYPE=text/html:The American Red Cross of Coastal Bend serves 19 counties including Aransas\, Bee\, Calhoun\, Colorado\, DeWitt\, Duval\, Goliad\, Jackson\, Jim Wells\, Kleberg\, Lavaca\, Live Oak\, Matagorda\, McMullen\, Nueces\, Refugio\, San Patricio\, Wharton and Victoria with services including disaster relief\, CPR training and assistance to military personnel\, veterans and<br />\ntheir families.&nbsp\;<br />\n<br />\nRefreshments and open house<br />\n<br />\nThe Red Cross welcomes a new Executive Director to the Coastal Bend Chapter\, Ms. Angelina Garcia. Angelina states:<br />\n&ldquo\;As disasters increase in frequency and intensity\, I am pleased to have joined a community centered organization that works cooperatively with community leaders and partners to increase resiliency in the communities we serve.&rdquo\;<br />\n<br />\nThe American Red Cross prevents and alleviates human suffering in the face of emergencies by mobilizing the power of volunteers and the generosity of donors.&nbsp\;
LOCATION:4639 Corona Dr\, Corpus Christi\, TX 78411
UID:e.1866.28667
SEQUENCE:3
DTSTAMP:20260424T025547Z
URL:https://chamber.unitedcorpuschristi.org/events/details/ribbon-cutting-for-red-cross-coastal-bend-chapter-28667
END:VEVENT

END:VCALENDAR
