BEGIN:VCALENDAR
VERSION:2.0
PRODID:-//ChamberMaster//Event Calendar 2.0//EN
METHOD:PUBLISH
X-PUBLISHED-TTL:P3D
REFRESH-INTERVAL:P3D
CALSCALE:GREGORIAN
BEGIN:VEVENT
DTSTART:20260501T140000Z
DTEND:20260501T170000Z
X-MICROSOFT-CDO-ALLDAYEVENT:FALSE
SUMMARY:Ribbon Cutting for Rebekah's Boutique & More
DESCRIPTION:The United Corpus Christi Chamber of Commerce invites you to the Grand Opening and Ribbon Cutting for Rebekah's Boutique & More.   \n\n \n\n  Date: Friday\, May 3\, 2026\n\n  Location: YWCA | 4601 Corona Drive\, 2nd Floor \n\n  Event Time: 9:00 AM - 12:00 PM\n\n   Ribbon Cutting Time: 10:00 PM\n\n\n\nCome celebrate this milestone\, network with fellow community members\, and enjoy a morning dedicated to local style and entrepreneurship.
X-ALT-DESC;FMTTYPE=text/html:<div>The United Corpus Christi Chamber of Commerce invites you to the Grand Opening and Ribbon Cutting for Rebekah&#39\;s Boutique &amp\; More. &#128091\;&#128098\;<br />\n&nbsp\;</div>\n\n<div>&#128197\; Date: Friday\, May 3\,&nbsp\;2026<br />\n&#128205\; Location:&nbsp\;YWCA | 4601 Corona Drive\, 2nd Floor&nbsp\;<br />\n&#128338\; Event Time: 9:00 AM - 12:00 PM<br />\n&#9986\;&#65039\; Ribbon Cutting Time: 10:00 PM<br />\n<br />\nCome celebrate this milestone\, network with fellow community members\, and enjoy a morning dedicated to local style and entrepreneurship. &#128087\;&#128090\;</div>\n
LOCATION:YWCA | 4601 Corona Drive\, 2nd Floor
UID:e.1866.30934
SEQUENCE:3
DTSTAMP:20260421T235541Z
URL:https://chamber.unitedcorpuschristi.org/events/details/ribbon-cutting-for-rebekah-s-boutique-more-30934
END:VEVENT

END:VCALENDAR
