BEGIN:VCALENDAR
VERSION:2.0
PRODID:-//ChamberMaster//Event Calendar 2.0//EN
METHOD:PUBLISH
X-PUBLISHED-TTL:P3D
REFRESH-INTERVAL:P3D
CALSCALE:GREGORIAN
BEGIN:VEVENT
DTSTART:20230320T213000Z
DTEND:20230320T230000Z
X-MICROSOFT-CDO-ALLDAYEVENT:FALSE
SUMMARY:Ribbon Cutting for Quick Quack Car Wash
DESCRIPTION:We love Corpus Christi and are excited to have yet another location coming in a fantastic part of town! \n\n\n\nQuick Quack started in Sacramento in 2004 and are a rapidly growing exterior only car\n\nwash chain.\n\n\n\nOur mascot Quackals will be in attendance
X-ALT-DESC;FMTTYPE=text/html:We love Corpus Christi and are excited to have yet another location coming in a fantastic part of town!&nbsp\;<br />\n<br />\nQuick Quack started in Sacramento in 2004 and are a rapidly growing exterior only car<br />\nwash chain.<br />\n<br />\nOur mascot Quackals will be in attendance
LOCATION:5329 S. Staples St\, Corpus Christi\, TX 78411 (Next to Banuelos Tire Shop and behind Moore Plaza\, formerly Mr. Fancy Pants)
UID:e.1866.28662
SEQUENCE:3
DTSTAMP:20260424T024559Z
URL:https://chamber.unitedcorpuschristi.org/events/details/ribbon-cutting-for-quick-quack-car-wash-28662
END:VEVENT

END:VCALENDAR
