BEGIN:VCALENDAR
VERSION:2.0
PRODID:-//ChamberMaster//Event Calendar 2.0//EN
METHOD:PUBLISH
X-PUBLISHED-TTL:P3D
REFRESH-INTERVAL:P3D
CALSCALE:GREGORIAN
BEGIN:VEVENT
DTSTART:20230117T223000Z
DTEND:20230118T000000Z
X-MICROSOFT-CDO-ALLDAYEVENT:FALSE
SUMMARY:Ribbon Cutting for Quick Quack Car Wash
DESCRIPTION:Ribbon Cutting & VIP Event. Refreshments and Free Car Washes will be provided.
X-ALT-DESC;FMTTYPE=text/html:Ribbon Cutting &amp\; VIP Event. Refreshments and Free Car Washes will be provided.&nbsp\;
LOCATION:14058 Northwest Blvd. Corpus Christi TX 78410
UID:e.1866.28506
SEQUENCE:3
DTSTAMP:20260423T231354Z
URL:https://chamber.unitedcorpuschristi.org/events/details/ribbon-cutting-for-quick-quack-car-wash-28506
END:VEVENT

END:VCALENDAR
