BEGIN:VCALENDAR
VERSION:2.0
PRODID:-//ChamberMaster//Event Calendar 2.0//EN
METHOD:PUBLISH
X-PUBLISHED-TTL:P3D
REFRESH-INTERVAL:P3D
CALSCALE:GREGORIAN
BEGIN:VEVENT
DTSTART:20220719T213000Z
DTEND:20220719T230000Z
X-MICROSOFT-CDO-ALLDAYEVENT:FALSE
SUMMARY:Ribbon Cutting for Quick Quack Car Wash
DESCRIPTION:Quick Quack Car Wash loves Corpus Christi \n\nand Corpus loves Quick Quack!
X-ALT-DESC;FMTTYPE=text/html:Quick Quack Car Wash loves Corpus Christi&nbsp\;<br />\nand Corpus loves Quick Quack!&nbsp\;
LOCATION:9513 S Padre Island Dr\, Corpus Christi\, Texas 78418
UID:e.1866.27479
SEQUENCE:3
DTSTAMP:20260423T144933Z
URL:https://chamber.unitedcorpuschristi.org/events/details/ribbon-cutting-for-quick-quack-car-wash-27479
END:VEVENT

END:VCALENDAR
