BEGIN:VCALENDAR
VERSION:2.0
PRODID:-//ChamberMaster//Event Calendar 2.0//EN
METHOD:PUBLISH
X-PUBLISHED-TTL:P3D
REFRESH-INTERVAL:P3D
CALSCALE:GREGORIAN
BEGIN:VEVENT
DTSTART:20220804T210000Z
DTEND:20220804T220000Z
X-MICROSOFT-CDO-ALLDAYEVENT:FALSE
SUMMARY:Ribbon Cutting for Precision Air
DESCRIPTION:Ribbon Cutting Ceremony
X-ALT-DESC;FMTTYPE=text/html:Ribbon Cutting Ceremony&nbsp\;&nbsp\;&nbsp\;&nbsp\;&nbsp\;&nbsp\;&nbsp\;&nbsp\;
LOCATION:5126 Weber Rd\, Corpus Christi\, TX 78411
UID:e.1866.27493
SEQUENCE:3
DTSTAMP:20260423T162952Z
URL:https://chamber.unitedcorpuschristi.org/events/details/ribbon-cutting-for-precision-air-27493
END:VEVENT

END:VCALENDAR
