BEGIN:VCALENDAR
VERSION:2.0
PRODID:-//ChamberMaster//Event Calendar 2.0//EN
METHOD:PUBLISH
X-PUBLISHED-TTL:P3D
REFRESH-INTERVAL:P3D
CALSCALE:GREGORIAN
BEGIN:VEVENT
DTSTART:20220802T153000Z
DTEND:20220802T170000Z
X-MICROSOFT-CDO-ALLDAYEVENT:FALSE
SUMMARY:Ribbon Cutting for Port of Corpus Christi / Watco & the Texas Coastal Bend Railroad
DESCRIPTION:Commemorative gifts will be given.\n\n\n\nWatco will be the new short line railroad provider at the Port of Corpus Christi. The name of the new short line will be called the Texas Coastal Bend Railroad\, servicing PCCA. \n\n\n\nThe unveiling of the two new locomotives.
X-ALT-DESC;FMTTYPE=text/html:Commemorative gifts will be given.<br />\n<br />\nWatco will be the new short line railroad provider at the Port of Corpus Christi. The name of the new short line will be called the Texas Coastal Bend Railroad\, servicing PCCA.&nbsp\;<br />\n<br />\nThe unveiling of the two new locomotives.&nbsp\;
LOCATION:Congressman Solomon P. Ortiz International Center 402 Harbor Dr\, Corpus Christi\, TX 78401 Ortiz Center/Port of Corpus Christi Executive Administrative Building\, in the parking lot. There will be a covered tent area for the event\, located in front of the two new locomotives branded with the Texas Coastal Bend Railroad logo.
UID:e.1866.27491
SEQUENCE:3
DTSTAMP:20260423T163616Z
URL:https://chamber.unitedcorpuschristi.org/events/details/ribbon-cutting-for-port-of-corpus-christi-watco-the-texas-coastal-bend-railroad-27491
END:VEVENT

END:VCALENDAR
