BEGIN:VCALENDAR
VERSION:2.0
PRODID:-//ChamberMaster//Event Calendar 2.0//EN
METHOD:PUBLISH
X-PUBLISHED-TTL:P3D
REFRESH-INTERVAL:P3D
CALSCALE:GREGORIAN
BEGIN:VEVENT
DTSTART:20220719T130000Z
DTEND:20220720T030000Z
X-MICROSOFT-CDO-ALLDAYEVENT:FALSE
SUMMARY:Ribbon Cutting for Port of Corpus Christi
DESCRIPTION:Supporting over 1.2 million jobs across the region\, the Port of Corpus Christi recognizes the importance of investing in education that provides students with the skills that make them more employable and ready to meet the current labor demand. With this in mind\, we have launched a Port-Able Learning Lab providing Coastal Bend students with critical STEM/Industry education. The Port of Corpus Christi aims to create meaningful learning experiences for Coastal Bend students\, creating awareness and sparking interest in industry-related careers.
X-ALT-DESC;FMTTYPE=text/html:Supporting over 1.2 million jobs across the region\, the Port of Corpus Christi recognizes the importance of investing in education that provides students with the skills that make them more employable and ready to meet the current labor demand. With this in mind\, we have launched a Port-Able Learning Lab providing Coastal Bend students with critical STEM/Industry education. The Port of Corpus Christi aims to create meaningful learning experiences for Coastal Bend students\, creating awareness and sparking interest in industry-related careers.&nbsp\;
LOCATION:400 Harbor Drive\, Corpus Christi TX 78401 In front of Port Administrative Building
UID:e.1866.27482
SEQUENCE:3
DTSTAMP:20260423T145955Z
URL:https://chamber.unitedcorpuschristi.org/events/details/ribbon-cutting-for-port-of-corpus-christi-27482
END:VEVENT

END:VCALENDAR
