BEGIN:VCALENDAR
VERSION:2.0
PRODID:-//ChamberMaster//Event Calendar 2.0//EN
METHOD:PUBLISH
X-PUBLISHED-TTL:P3D
REFRESH-INTERVAL:P3D
CALSCALE:GREGORIAN
BEGIN:VEVENT
DTSTART:20220413T210000Z
DTEND:20220413T230000Z
X-MICROSOFT-CDO-ALLDAYEVENT:FALSE
SUMMARY:Ribbon Cutting for Physicians PremiER
DESCRIPTION:Physicians PremiER has an innovative mission to deliver concierge\, convenient service\, and high-quality emergency care in a unique model. Our mission is to deliver compassionate\, efficient\, and patient-centered care at each of our locations throughout Corpus Christi. \n \n\n\nParkdale 7-year Anniversary
X-ALT-DESC;FMTTYPE=text/html:Physicians PremiER has an innovative mission to deliver concierge\, convenient service\, and high-quality emergency care in a unique model. Our mission is to deliver compassionate\, efficient\, and patient-centered care at each of our locations throughout Corpus Christi.&nbsp\;\n<div>&nbsp\;</div>\n\n<div>\n<div>Parkdale 7-year Anniversary&nbsp\;</div>\n\n<div>&nbsp\;</div>\n</div>\n
LOCATION:4141 S. Staples St. Ste.101 (Headquarters-PPMS)- next door to the ACTUAL ER
UID:e.1866.27409
SEQUENCE:3
DTSTAMP:20260423T101712Z
URL:https://chamber.unitedcorpuschristi.org/events/details/ribbon-cutting-for-physicians-premier-27409
END:VEVENT

END:VCALENDAR
