BEGIN:VCALENDAR
VERSION:2.0
PRODID:-//ChamberMaster//Event Calendar 2.0//EN
METHOD:PUBLISH
X-PUBLISHED-TTL:P3D
REFRESH-INTERVAL:P3D
CALSCALE:GREGORIAN
BEGIN:VEVENT
DTSTART:20221006T220000Z
DTEND:20221007T000000Z
X-MICROSOFT-CDO-ALLDAYEVENT:FALSE
SUMMARY:Ribbon Cutting for Patrice Adams Foundation
DESCRIPTION:Our main mission is to assist\, support\, & provide financial assistance to grieving families. We are happy to have partnered with the United Corpus Christi Chamber of Commerce and we are grateful to continue our services to the Coastal Bend.  The foundation was created after the loss of our daughter.  We operate all over the US\, but based out of Corpus Christi\, TX. \n\n\n\nWe will invite pervious clients or Angel Moms we've helped.
X-ALT-DESC;FMTTYPE=text/html:Our main mission is to assist\, support\, &amp\; provide financial assistance to grieving families. We are happy to have partnered with the United Corpus Christi Chamber of Commerce and we are grateful to continue our services to the Coastal Bend.&nbsp\; The foundation was created after the loss of our daughter.&nbsp\; We operate all over the US\, but based out of Corpus Christi\, TX.&nbsp\;<br />\n<br />\nWe will invite pervious clients or Angel Moms we&#39\;ve helped.&nbsp\;
LOCATION:Sal's Bronx Pizza 5922 Yorktown Blvd Suite 106 Corpus Christi\, TX 78414
UID:e.1866.27706
SEQUENCE:3
DTSTAMP:20260423T193656Z
URL:https://chamber.unitedcorpuschristi.org/events/details/ribbon-cutting-for-patrice-adams-foundation-27706
END:VEVENT

END:VCALENDAR
