BEGIN:VCALENDAR
VERSION:2.0
PRODID:-//ChamberMaster//Event Calendar 2.0//EN
METHOD:PUBLISH
X-PUBLISHED-TTL:P3D
REFRESH-INTERVAL:P3D
CALSCALE:GREGORIAN
BEGIN:VEVENT
DTSTART:20230207T170000Z
DTEND:20230207T190000Z
X-MICROSOFT-CDO-ALLDAYEVENT:FALSE
SUMMARY:Ribbon Cutting for Papa Murphy’s
DESCRIPTION:The Tom Lovelace Company bought the local Papa Murphy's back in 2018 and we are excited to continue to support and contribute any way that we can to our community. Corpus Christi loves Papa Murphy's so we are excited to continue to provide the best pizza and service possible.\n\n\n\nThe Tom Lovelace Company took over the local Papa Murphy's back in 2018.\n\n\n\nWe will be sampling pizzas\, meatballs and desserts for customers and any other attendees.
X-ALT-DESC;FMTTYPE=text/html:The Tom Lovelace Company bought the local Papa Murphy&rsquo\;s back in 2018 and we are excited to continue to support and contribute any way that we can to our community. Corpus Christi loves Papa Murphy&rsquo\;s so we are excited to continue to provide the best pizza and service possible.<br />\n<br />\nThe Tom Lovelace Company took over the local Papa Murphy&rsquo\;s back in 2018.<br />\n<br />\nWe will be sampling pizzas\, meatballs and desserts for customers and any other attendees.
LOCATION:5017 Saratoga Blvd. Suite 125 in the Regal Plaza next to La Playa. Between Everhart and Staples.
UID:e.1866.28521
SEQUENCE:3
DTSTAMP:20260424T003449Z
URL:https://chamber.unitedcorpuschristi.org/events/details/ribbon-cutting-for-papa-murphy-s-28521
END:VEVENT

END:VCALENDAR
