BEGIN:VCALENDAR
VERSION:2.0
PRODID:-//ChamberMaster//Event Calendar 2.0//EN
METHOD:PUBLISH
X-PUBLISHED-TTL:P3D
REFRESH-INTERVAL:P3D
CALSCALE:GREGORIAN
BEGIN:VEVENT
DTSTART:20220831T210000Z
DTEND:20220831T230000Z
X-MICROSOFT-CDO-ALLDAYEVENT:FALSE
SUMMARY:Ribbon Cutting for Oceans Behavioral Hospital Corpus Christi
DESCRIPTION:Oceans Healthcare\, founded in 2004 and provides inpatient and outpatient treatment with a special focus on the unique physical and emotional needs of older adults. With 33 locations\, including 23 inpatient hospital campuses across the Southeast\, Oceans treated 24\,000 individuals in 2021.\n\n\n\nRibbon cutting and remarks from Oceans Healthcare executives\, CHRISTUS Spohn medical director\, and others.
X-ALT-DESC;FMTTYPE=text/html:Oceans Healthcare\, founded in 2004 and provides inpatient and outpatient treatment with a special focus on the unique physical and emotional needs of older adults. With 33 locations\, including 23 inpatient hospital campuses across the Southeast\, Oceans treated 24\,000 individuals in 2021.<br />\n<br />\nRibbon cutting and remarks from Oceans Healthcare executives\, CHRISTUS Spohn medical director\, and others.<br />\n
LOCATION:CHRISTUS Spohn Hospital Corpus Christi - Shoreline 4th Floor-600 Elizabeth Street Corpus Christi\, TX 78404
UID:e.1866.27498
SEQUENCE:3
DTSTAMP:20260423T163349Z
URL:https://chamber.unitedcorpuschristi.org/events/details/ribbon-cutting-for-oceans-behavioral-hospital-corpus-christi-27498
END:VEVENT

END:VCALENDAR
