BEGIN:VCALENDAR
VERSION:2.0
PRODID:-//ChamberMaster//Event Calendar 2.0//EN
METHOD:PUBLISH
X-PUBLISHED-TTL:P3D
REFRESH-INTERVAL:P3D
CALSCALE:GREGORIAN
BEGIN:VEVENT
DTSTART:20220414T220000Z
DTEND:20220415T000000Z
X-MICROSOFT-CDO-ALLDAYEVENT:FALSE
SUMMARY:Ribbon Cutting for Networking U 501c3
DESCRIPTION:This is the Welcome Reception\, kick off to "See Your Potential By The Sea" Conference.   \n\n \n\nI will be providing OneHope Wine\, cheese and fruit trays.
X-ALT-DESC;FMTTYPE=text/html:This is the Welcome Reception\, kick off to &quot\;See Your Potential By The Sea&quot\; Conference.&nbsp\; &nbsp\;<br />\n&nbsp\;<br />\nI will be providing OneHope Wine\, cheese and fruit trays.&nbsp\;&nbsp\;
LOCATION:Embassy Suites by Hilton Corpus Christi 4337 South Padre Island Drive\, Corpus Christi\, TX 78411
UID:e.1866.27432
SEQUENCE:3
DTSTAMP:20260423T113816Z
URL:https://chamber.unitedcorpuschristi.org/events/details/ribbon-cutting-for-networking-u-501c3-27432
END:VEVENT

END:VCALENDAR
