BEGIN:VCALENDAR
VERSION:2.0
PRODID:-//ChamberMaster//Event Calendar 2.0//EN
METHOD:PUBLISH
X-PUBLISHED-TTL:P3D
REFRESH-INTERVAL:P3D
CALSCALE:GREGORIAN
BEGIN:VEVENT
DTSTART:20220609T220000Z
DTEND:20220610T000000Z
X-MICROSOFT-CDO-ALLDAYEVENT:FALSE
SUMMARY:Ribbon Cutting for Move It Storage
DESCRIPTION:Move It Storage is thrilled with expansion to 16 properties in Corpus to serve the Corpus Christi community. We appreciate our community's support and look forward to serving you. \n\n\n\nMove It Storage is a group of privately owned companies chartered to acquire and manage self-storage facilities.  A. Starke "Tracy" Taylor\, III\, founded the Move It companies in 2013 as a new venture after a four-decade partnership in the storage industry operating under the trade name Watson & Taylor Self Storage. Over forty years\, Watson & Taylor acquired and developed multiple asset classes of real estate\, including developing\, acquiring\, operating\, and selling more than 100 self-storage properties.\n\n\n\nMove it has 16 properties in Corpus Christi and can be found from Flour Bluff to Cal Allen.\n\n\n\nWe will provide a few platters and beverages to attendees.
X-ALT-DESC;FMTTYPE=text/html:Move It Storage is thrilled with expansion to 16 properties in Corpus to serve the Corpus Christi community. We appreciate our community&rsquo\;s support and look forward to serving you.&nbsp\;<br />\n<br />\nMove It Storage is a group of privately owned companies chartered to acquire and manage self-storage facilities.&nbsp\; A. Starke &ldquo\;Tracy&rdquo\; Taylor\, III\, founded the Move It companies in 2013 as a new venture after a four-decade partnership in the storage industry operating under the trade name Watson &amp\; Taylor Self Storage. Over forty years\, Watson &amp\; Taylor acquired and developed multiple asset classes of real estate\, including developing\, acquiring\, operating\, and selling more than 100 self-storage properties.<br />\n<br />\nMove it has 16 properties in Corpus Christi and can be found from Flour Bluff to Cal Allen.<br />\n<br />\nWe will provide a few platters and beverages to attendees.&nbsp\;<br />\n
LOCATION:6197 Dunbarton Oak St\, Corpus Christi\, Texas 78414
UID:e.1866.27460
SEQUENCE:3
DTSTAMP:20260423T132108Z
URL:https://chamber.unitedcorpuschristi.org/events/details/ribbon-cutting-for-move-it-storage-27460
END:VEVENT

END:VCALENDAR
