BEGIN:VCALENDAR
VERSION:2.0
PRODID:-//ChamberMaster//Event Calendar 2.0//EN
METHOD:PUBLISH
X-PUBLISHED-TTL:P3D
REFRESH-INTERVAL:P3D
CALSCALE:GREGORIAN
BEGIN:VEVENT
DTSTART:20220921T223000Z
DTEND:20220922T000000Z
X-MICROSOFT-CDO-ALLDAYEVENT:FALSE
SUMMARY:Ribbon Cutting for Memorial MRI & Diagnostic
DESCRIPTION:Memorial MRI and Diagnostic has led the way in providing comprehensive diagnostic imaging and treatment services using advanced technology and state-of-the-art equipment. Our physicians\, management\, technologists\, and support staff make up our premier practice. We are responsible for facilitating the needs of physicians and healthcare providers to ensure that every patient receives the highest degree of care and compassion. We are excited to offer the latest technology in our Corpus Christi facility with the addition of a 1.5 Tesla Wide Bore High Field MRI and expand access to the best-in-class imaging for the local community.\n\n\n\nMemorial MRI & Diagnostic was established in 2001 and has grown from one location to sixteen current locations in four Texas markets. Memorial MRI & Diagnostic delivers imaging services to nearly 100\,000 patients every year.\n\n\n\nThere will be food and beverages following the ribbon-cutting.\n\n\n\nAfter the Ribbon-Cutting\, there will be food & drinks\, as well as an open house for providers and community leaders to tour our newly renovated facility and see our new equipment.
X-ALT-DESC;FMTTYPE=text/html:Memorial MRI and Diagnostic has led the way in providing comprehensive diagnostic imaging and treatment services using advanced technology and state-of-the-art equipment. Our physicians\, management\, technologists\, and support staff make up our premier practice. We are responsible for facilitating the needs of physicians and healthcare providers to ensure that every patient receives the highest degree of care and compassion. We are excited to offer the latest technology in our Corpus Christi facility with the addition of a 1.5 Tesla Wide Bore High Field MRI and expand access to the best-in-class imaging for the local community.<br />\n<br />\nMemorial MRI &amp\; Diagnostic was established in 2001 and has grown from one location to sixteen current locations in four Texas markets. Memorial MRI &amp\; Diagnostic delivers imaging services to nearly 100\,000 patients every year.<br />\n<br />\nThere will be food and beverages following the ribbon-cutting.<br />\n<br />\nAfter the Ribbon-Cutting\, there will be food &amp\; drinks\, as well as an open house for providers and community leaders to tour our newly renovated facility and see our new equipment.<br />\n
LOCATION:3502 S Padre Island Dr\, Corpus Christi\, Texas 78415
UID:e.1866.27502
SEQUENCE:3
DTSTAMP:20260423T180330Z
URL:https://chamber.unitedcorpuschristi.org/events/details/ribbon-cutting-for-memorial-mri-diagnostic-27502
END:VEVENT

END:VCALENDAR
