BEGIN:VCALENDAR
VERSION:2.0
PRODID:-//ChamberMaster//Event Calendar 2.0//EN
METHOD:PUBLISH
X-PUBLISHED-TTL:P3D
REFRESH-INTERVAL:P3D
CALSCALE:GREGORIAN
BEGIN:VEVENT
DTSTART:20220511T210000Z
DTEND:20220511T230000Z
X-MICROSOFT-CDO-ALLDAYEVENT:FALSE
SUMMARY:Ribbon Cutting for Lendmark Financial Services
DESCRIPTION:"Lendmark is thrilled on its expansion in the Coastal Bend area\, Corpus Christi\, TX. We love the community and appreciate their support"\n\n \n\nLendmark financial has 25 years of personalized lending. Since 1996\, Lendmark Financial Services has been serving the personal lending needs of customers underserved by traditional banks. Today\, with over 400 branches in 19 states from coast to coast\, Lendmark continues to grow with superior\, reliable and consistent financial services that make a difference in people's lives.
X-ALT-DESC;FMTTYPE=text/html:&ldquo\;Lendmark is thrilled on its expansion in the Coastal Bend area\, Corpus Christi\, TX. We love the community and appreciate their support&rdquo\;<br />\n&nbsp\;<br />\nLendmark financial has 25 years of personalized lending. Since 1996\, Lendmark Financial Services has been serving the personal lending needs of customers underserved by traditional banks. Today\, with over 400 branches in 19 states from coast to coast\, Lendmark continues to grow with superior\, reliable and consistent financial services that make a difference in people&rsquo\;s lives.&nbsp\;
LOCATION:5638 Saratoga Blvd. Ste. 104\, Corpus Christi\, TX 78414\, near the Kohl's shopping plaza
UID:e.1866.27449
SEQUENCE:3
DTSTAMP:20260423T132129Z
URL:https://chamber.unitedcorpuschristi.org/events/details/ribbon-cutting-for-lendmark-financial-services-27449
END:VEVENT

END:VCALENDAR
