BEGIN:VCALENDAR
VERSION:2.0
PRODID:-//ChamberMaster//Event Calendar 2.0//EN
METHOD:PUBLISH
X-PUBLISHED-TTL:P3D
REFRESH-INTERVAL:P3D
CALSCALE:GREGORIAN
BEGIN:VEVENT
DTSTART:20221026T163000Z
DTEND:20221026T180000Z
X-MICROSOFT-CDO-ALLDAYEVENT:FALSE
SUMMARY:Ribbon Cutting for LACKEY LAW FIRM\, P.C.
DESCRIPTION:Lackey Law Firm\, PC is pleased to announce that we are opening our new office location in Corpus Christi\, Texas and will begin offering our family law legal services to South Texas and the Coastal Bend\, including representation in divorce and child custody cases.\n\n\n\nOwner\, Alicia Lackey\, has been practicing law since 2007\, giving her the in-depth legal knowledge to effectively protect your interests. She is a certified family law mediator and trained in collaborative law.\n\n\n\nOf Counsel Attorney\, Lupita Almaraz Aguilar\, has been serving clients as a tenacious lawyer for over fifteen years. With over four decades of experience in the legal field\, she works diligently and efficiently to maximize her clients' valuable time and resources.
X-ALT-DESC;FMTTYPE=text/html:Lackey Law Firm\, PC is pleased to announce that we are opening our new office location in Corpus Christi\, Texas and will begin offering our family law legal services to South Texas and the Coastal Bend\, including representation in divorce and child custody cases.<br />\n<br />\nOwner\, Alicia Lackey\, has been practicing law since 2007\, giving her the in-depth legal knowledge to effectively protect your interests. She is a certified family law mediator and trained in collaborative law.<br />\n<br />\nOf Counsel Attorney\, Lupita Almaraz Aguilar\, has been serving clients as a tenacious lawyer for over fifteen years. With over four decades of experience in the legal field\, she works diligently and efficiently to maximize her clients&#39\; valuable time and resources.
LOCATION:4646 Corona Drive in Corpus Christi near the intersection of Everhart Road and SPID.
UID:e.1866.27739
SEQUENCE:3
DTSTAMP:20260423T193958Z
URL:https://chamber.unitedcorpuschristi.org/events/details/ribbon-cutting-for-lackey-law-firm-p-c-27739
END:VEVENT

END:VCALENDAR
