BEGIN:VCALENDAR
VERSION:2.0
PRODID:-//ChamberMaster//Event Calendar 2.0//EN
METHOD:PUBLISH
X-PUBLISHED-TTL:P3D
REFRESH-INTERVAL:P3D
CALSCALE:GREGORIAN
BEGIN:VEVENT
DTSTART:20230128T173000Z
DTEND:20230128T190000Z
X-MICROSOFT-CDO-ALLDAYEVENT:FALSE
SUMMARY:Ribbon Cutting for Kochinos Laundry
DESCRIPTION:Grand Opening and Ribbon Cutting Ceremony
X-ALT-DESC;FMTTYPE=text/html:Grand Opening and Ribbon Cutting Ceremony&nbsp\;
LOCATION:5886 Everhart Rd unit b\, Corpus Christi\, TX 78413
UID:e.1866.28516
SEQUENCE:3
DTSTAMP:20260423T233218Z
URL:https://chamber.unitedcorpuschristi.org/events/details/ribbon-cutting-for-kochinos-laundry-28516
END:VEVENT

END:VCALENDAR
