BEGIN:VCALENDAR
VERSION:2.0
PRODID:-//ChamberMaster//Event Calendar 2.0//EN
METHOD:PUBLISH
X-PUBLISHED-TTL:P3D
REFRESH-INTERVAL:P3D
CALSCALE:GREGORIAN
BEGIN:VEVENT
DTSTART:20220428T210000Z
DTEND:20220428T230000Z
X-MICROSOFT-CDO-ALLDAYEVENT:FALSE
SUMMARY:Ribbon Cutting for Je'Sani Smith Foundation
DESCRIPTION:The Je'Sani Smith Foundation's purpose is to save lives by providing education\, awareness\, and water skills training on beach safety\, seaward-flowing water currents\, and other coastal hazards.  Increasing awareness of natural conditions that pose an imminent danger and risk at our beaches\, such as rip currents\, is a crucial component to improve public safety.\n\n\n\nKiwana and Terry Denson started this foundation when their son passed away from a rip current in 2019.  Kiwana Denson told herself she needed to make sure that this did not happen to no one else and that the Coastal Bend needed more education on rip currents.  Kiwana started the foundation late 2019 and has continued to strive in the community.  In September 2021 Governor Abbott signed and executed the Beach Awareness legislation for the whole month of April to be Beach Awareness month.  The Je'Sani Smith Foundation has also just rebranded and has new billboards and signs off of highway 37.
X-ALT-DESC;FMTTYPE=text/html:The Je&#39\;Sani Smith Foundation&#39\;s purpose is to save lives by providing education\, awareness\, and water skills training on beach safety\, seaward-flowing water currents\, and other coastal hazards.&nbsp\; Increasing awareness of natural conditions that pose an imminent danger and risk at our beaches\, such as rip currents\, is a crucial component to improve public safety.<br />\n<br />\nKiwana and Terry Denson started this foundation when their son passed away from a rip current in 2019.&nbsp\; Kiwana Denson told herself she needed to make sure that this did not happen to no one else and that the Coastal Bend needed more education on rip currents.&nbsp\; Kiwana started the foundation late 2019 and has continued to strive in the community.&nbsp\; In September 2021 Governor Abbott signed and executed the Beach Awareness legislation for the whole month of April to be Beach Awareness month.&nbsp\; The Je&#39\;Sani Smith Foundation has also just rebranded and has new billboards and signs off of highway 37.
LOCATION:Texas Surf Museum 309A N Water St. Corpus Christi\, TX 78401
UID:e.1866.27437
SEQUENCE:3
DTSTAMP:20260423T101919Z
URL:https://chamber.unitedcorpuschristi.org/events/details/ribbon-cutting-for-je-sani-smith-foundation-27437
END:VEVENT

END:VCALENDAR
