BEGIN:VCALENDAR
VERSION:2.0
PRODID:-//ChamberMaster//Event Calendar 2.0//EN
METHOD:PUBLISH
X-PUBLISHED-TTL:P3D
REFRESH-INTERVAL:P3D
CALSCALE:GREGORIAN
BEGIN:VEVENT
DTSTART:20221012T220000Z
DTEND:20221013T000000Z
X-MICROSOFT-CDO-ALLDAYEVENT:FALSE
SUMMARY:Ribbon Cutting for ISLAND LIVING
DESCRIPTION:I am really excited to celebrate 2 years of serving families on the Island and in Port Aransas. We showcase our neighbors and provide local content better than any other medium.\n\n\n\nKent Cooper spent over 40 years in the radio business as a general manager and station owner before founding Island Living.\n\n\n\nMusic by: Nationally acclaimed DJ Jelloxshot
X-ALT-DESC;FMTTYPE=text/html:I am really excited to celebrate 2 years of serving families on the Island and in Port Aransas. We showcase our neighbors and provide local content better than any other medium.<br />\n<br />\nKent Cooper spent over 40 years in the radio business as a general manager and station owner before founding Island Living.<br />\n<br />\nMusic by: Nationally acclaimed DJ Jelloxshot<br />\n
LOCATION:Coastal Charm Event Center-14493 SPID\, #H
UID:e.1866.27707
SEQUENCE:3
DTSTAMP:20260423T193947Z
URL:https://chamber.unitedcorpuschristi.org/events/details/ribbon-cutting-for-island-living-27707
END:VEVENT

END:VCALENDAR
